BEGIN:VCALENDAR
VERSION:2.0
PRODID:-//autres versants - ECPv6.14.2//NONSGML v1.0//EN
CALSCALE:GREGORIAN
METHOD:PUBLISH
X-WR-CALNAME:autres versants
X-ORIGINAL-URL:https://autresversants.com
X-WR-CALDESC:Évènements pour autres versants
REFRESH-INTERVAL;VALUE=DURATION:PT1H
X-Robots-Tag:noindex
X-PUBLISHED-TTL:PT1H
BEGIN:VTIMEZONE
TZID:Europe/Paris
BEGIN:DAYLIGHT
TZOFFSETFROM:+0100
TZOFFSETTO:+0200
TZNAME:CEST
DTSTART:20260329T010000
END:DAYLIGHT
BEGIN:STANDARD
TZOFFSETFROM:+0200
TZOFFSETTO:+0100
TZNAME:CET
DTSTART:20261025T010000
END:STANDARD
END:VTIMEZONE
BEGIN:VEVENT
DTSTART;TZID=Europe/Paris:20260301T140000
DTEND;TZID=Europe/Paris:20260301T183000
DTSTAMP:20260421T151556
CREATED:20251221T184815Z
LAST-MODIFIED:20260302T062745Z
UID:4865-1772373600-1772389800@autresversants.com
SUMMARY:Randonnée d'hiver sur les crêtes des Monges
DESCRIPTION:C’est aux portes des Monges\, massif méconnu et terre de contrastes entre Alpes et Provence\, que je vous emmène pour une balade d’hiver facile\, sur les crêtes de la montagne de l’ubac. Après une courte montée en forêt\, l’essentiel de notre chemin se fera sur les crêtes\, face au sommet des Monges enneigées. L’idéal pour se remettre en forme.. tout en douceur ! \nAu programme \n\nBalade en forêt puis en crêtes\, face au soleil\, en plein hiver\nComprendre les influences climatiques (Alpines et méditerranéennes) qui traversent le massif et les différences adret/ubac parmi les plantes de montagne\nObserver traces et indices de présence d’animaux sur le terrain\nFin de balade au soleil couchant\, offrant de superbes vues sur Cheval Blanc et la Montagne de Lure\n\n  \n\n\n\n\n\nEncadrement : Randonnée en groupe (max 13 personnes)\, encadrée par un accompagnateur en montagne basé à Sisteron. Il vous fournira les éléments techniques et vous fera découvrir l’environnement local. L’itinéraire pourra être modifié en fonction des conditions météo ou de la condition physique des participant.e.s. \nMatériel indispensable :  1 sac à dos confortable (20-30L) pour vos affaires // des chaussures de montagne avec des crampons (pas de baskets lisses) // 1 tenue adaptée et confortable pour la marche (vêtements respirants et légers) // 1 gourde d’eau (1L minimum pour la demie-journée) ou 1 petit Thermos // 1 vêtement chaud (doudoune ou gros pull) // 1 coupe-vent imperméable technique (type gore-tex) ou un k-way en fonction du temps // votre traitement médical (si vous en avez).  \nMatériel optionnel : votre téléphone ou appareil photo\, jumelles d’observation\, bâtons de randonnée (si vous avez l’habitude de marcher avec !) \n\n\n\n			\n			\n				\n				\n				\n				\n				\n				\n				\n				\n				\n				\n			\n				\n				\n				\n				\n				Tarifs :  25€ / adulte et 12€ / enfant (sous la responsabilité d’un adulte) \nLe prix inclus : L’encadrement par un accompagnateur en montagne\, une collation / en-cas local à partager.  \nLe prix n’inclus pas : Votre transport A-R jusqu’au point de départ de la randonnée\, les autres encas et l’eau. Un covoiturage sera proposé depuis l’Office de Tourisme de Sisteron\, utilisant les véhicules des participant.es.s à la sortie. \nNiveau de difficulté : Niveau 3/5. 300m de dénivelé positif au cours de l’après-midi. Randonnée tous publics\, s’effectuant sur des sentiers bien marqués ou hors sentier sur les crêtes. Quelques passages sur dalles rocheuses où il faudra être prudent. Les enfants sont bienvenus ; des activités spécifiques de découverte peuvent être prévues pour eux\, merci de le signaler lors de votre inscription. \nRV devant l’Office de Tourisme de Sisteron (1 place de la République\, 04200 Sisteron). Un covoiturage sera organisé depuis l’Office de Tourisme\, afin de minimiser le nombre de véhicules que nous emprunterons. \n			\n				Conditions générales de vente
URL:https://autresversants.com/event/randonnee-dhiver-sur-les-cretes-des-monges/
LOCATION:Saint-Geniez\, Saint-Geniez\, Provence Alpes Côte d'Azur\, France
CATEGORIES:Balade ½ Journée,Coucher de soleil,Faune,Monges
ATTACH;FMTTYPE=image/jpeg:https://autresversants.com/wp-content/uploads/2025/12/Groupe-hiver-coucher-de-soleil-Monges.jpeg
ORGANIZER;CN="Autres Versants":MAILTO:simon@autresversants.com
END:VEVENT
BEGIN:VEVENT
DTSTART;TZID=Europe/Paris:20260314T083000
DTEND;TZID=Europe/Paris:20260314T110000
DTSTAMP:20260421T151556
CREATED:20260227T060038Z
LAST-MODIFIED:20260308T150553Z
UID:4912-1773477000-1773486000@autresversants.com
SUMMARY:Balade ornitho • Découvrir les chants d'oiseaux
DESCRIPTION:En cette fin d’hiver\, alors que les espèces qui ont passé l’hiver commencent à s’activer pour la reproduction et que les migrateurs commencent à arriver\, nous partons nous promener\, les oreilles grandes ouvertes\, pour écouter les chants d’oiseaux. Essayons de reconnaître leurs chants ! \n\n\n\n\n\n\nAu programme : • Comprendre le rôle du corridor de la Durance dans la migration des espèces • Observer au petit matin quelques espèces d’oiseaux emblématiques (hivernants\, premiers estivants nicheurs) • Observations et sessions d’écoute dans 3 milieux naturels : la forêt méditerranéenne\, les prés agricoles et les zones humides. \nSortie organisée en partenariat avec la Ligue de Protection des Oiseaux (LPO) : prêt de jumelles pour les participant.e.s et d’une longue vue pour observer les oiseaux en cours de balade.  \nPrécision importante : Il s’agit d’une sortie grand public\, d’initiation à l’ornithologie. Le mois de mars est idéal pour débuter car le feuillage des arbres n’a pas encore repoussé : un nombre encore limité d’espèces qui chantent peut être observé\, idéal pour débuter ! Toute personne curieuse est donc bienvenue\, même sans aucune connaissance préalable. \nEncadrement : Randonnée en groupe (max 8 personnes)\, encadrée par un accompagnateur en montagne basé à Sisteron. Il vous fournira les éléments techniques et vous fera découvrir l’environnement local. L’itinéraire pourra être modifié en fonction des conditions météo ou de la condition physique des participant.e.s. \nMatériel indispensable :  1 sac à dos confortable (20-30L) pour vos affaires // une paire de bonnes chaussures // 1 tenue adaptée pour la marche (vêtements respirants et légers) // 1 gourde d’eau (1L minimum/pers pour la sortie) // 1 casquette ou chapeau\, lunettes de soleil et crème solaire // 1 coupe-vent imperméable technique (type gore-tex) ou un k-way // une tenue chaude (pour les moments où nous resterons statiques // votre traitement médical (si vous en avez) // \nMatériel optionnel : votre téléphone ou appareil photo\, jumelles d’observation (si vous en possédez). Nul besoin d’emporter vos bâtons (randonnée facile)\, afin de limiter votre propre encombrement. \n\n\n\n			\n			\n				\n				\n				\n				\n				\n				\n				\n				\n				\n				\n			\n				\n				\n				\n				\n				Tarifs :  20€ / adulte et 10€ / enfant (sous la responsabilité d’un adulte). Tarif réduit si participation à 3 ou 4 sorties du « cycle ornitho ». Confirmation de la sortie la veille au soir. Départ garanti dès 5 inscrits. \nLe prix inclus : L’encadrement par un accompagnateur en montagne\, le prêt du matériel d’observation par la LPO (longue-vue\, jumelles)\, un petit-déjeuner partagé en observant les oiseaux. Il n’inclus pas : Votre transport A-R jusqu’au point de départ de la randonnée. \nNiveau de difficulté : Niveau 1/5. 1h15 de marche effective\, 4\,5 km sans dénivelé positif au cours de la sortie. Balade tous publics\, s’effectuant uniquement sur des sentiers bien marqués sans pente raide. Sortie adaptée aux familles avec enfants. \nRV à 8h15 devant l’Office de Tourisme de Sisteron pour le covoiturage\, 1 place de la République\, 04200 Sisteron. Parking gratuit avec disque (zone bleue sur la place de l’Hôtel de Ville) ou à la Gare SNCF (5′ à pieds). Covoiturage entre participant.e.s jusqu’au point de départ de la randonnée (Mison). Possibilité de se rejoindre directement à 8h30 au Lac de Mison (Parking Nord / Point GPS) \n			\n				Conditions générales de vente
URL:https://autresversants.com/event/rando-ornitho-decouvrir-les-chants-doiseaux/
LOCATION:Mison\, Mison\, 04200\, France
CATEGORIES:Balade ½ Journée,Faune,Sisteron
ATTACH;FMTTYPE=image/jpeg:https://autresversants.com/wp-content/uploads/2026/02/Visuels-balades-ornitho-01.jpg
ORGANIZER;CN="Autres Versants":MAILTO:simon@autresversants.com
END:VEVENT
BEGIN:VEVENT
DTSTART;TZID=Europe/Paris:20260328T083000
DTEND;TZID=Europe/Paris:20260328T110000
DTSTAMP:20260421T151556
CREATED:20240515T065515Z
LAST-MODIFIED:20260308T152217Z
UID:4006-1774686600-1774695600@autresversants.com
SUMMARY:Balade ornitho • Les oiseaux du lac (migrateurs et hivernants)
DESCRIPTION:Venez observer les nombreuses espèces d’oiseaux qui fréquentent la Réserve Ornithologique de Haute Provence à l’occasion d’une sortie accompagnée par un guide ornithologique. Petit-déjeuner partagé en écoutant les oiseaux ! \n\n\n\n\n\n\nAu programme : • Comprendre le rôle du corridor de la Durance dans la migration des espèces • Observer au petit matin quelques espèces d’oiseaux emblématiques en fonction de la saison (hivernants\, passage d’espèces en migration\, arrivée des premiers « estivants » nicheurs). \n\nEspèces emblématiques pouvant être rencontrées : Bouscarle de Cetti\, Bruant des roseaux\, Rousserole turdoïde\, Guêpier d’Europe (sous réserve)\, Martin-pêcheur d’Europe\, Grèbe huppé\, Grèbe castagneux\, Foulque macroule\, Fuligule milouin\, Sarcelle d’hiver\, Héron cendré\, Héron pourpré\, Aigrette garzette\, Grande Aigrette\, Canard souchet\, Canard siffleur\, Bécassine des marais\, Faucon Hobereau…\n\n\n\nEspèces migratrices (de passage dans la région) : remiz penduline\, grues cendrées. Attention\, voir ces espèces n’est pas garanti ! Vous pourrez néanmoins profiter de beaux paysages et vous aurez la possibilité d’apercevoir d’autres espèces (papillons\, libellules…). \n\n\n\n\nEncadrement : Randonnée en groupe (max 8 personnes)\, encadrée par un accompagnateur en montagne basé à Sisteron. Il vous fournira les éléments techniques et vous fera découvrir l’environnement local. L’itinéraire pourra être modifié en fonction des conditions météo ou de la condition physique des participant.e.s. \nMatériel indispensable :  1 sac à dos confortable (20-30L) pour vos affaires // une paire de bonnes chaussures // 1 tenue adaptée pour la marche (vêtements respirants et légers) // 1 gourde d’eau (1L minimum/pers pour la sortie) // 1 casquette ou chapeau\, lunettes de soleil et crème solaire // 1 vêtement chaud pour les moments d’observation des oiseaux // 1 coupe-vent imperméable technique (type gore-tex) ou un k-way // votre traitement médical (si vous en avez). \nMatériel optionnel : votre téléphone ou appareil photo\, jumelles d’observation et guide ornithologique (si vous en possédez). Évitez de prendre vos bâtons de marche (balade facile) : ils risquent de vous encombrer ! \n\n\n\n			\n			\n				\n				\n				\n				\n				\n				\n				\n				\n				\n				\n			\n				\n				\n				\n				\n				Tarifs :  20€ / adulte et 10€ / enfant (sous la responsabilité d’un adulte). Inscriptions possibles jusqu’à la veille au soir. Départ garanti dès 5 inscrits. \nLe prix inclus : L’encadrement par un accompagnateur en montagne\, le prêt du matériel d’observation par la LPO (longue-vue\, jumelles)\, un petit-déjeuner partagé face aux oiseaux du lac. Il n’inclus pas : Votre transport A-R jusqu’au point de départ de la randonnée. \nNiveau de difficulté : Niveau 1/5. 1h15 de marche effective\, 4\,5 km sans dénivelé positif au cours de la sortie. Balade tous publics\, s’effectuant uniquement sur des sentiers bien marqués sans pente raide. Sortie adaptée aux familles avec enfants. \nRV à 8h15 Sisteron pour le covoiturage (Office de Tourisme)\, ou directement à 8h30 devant l’Office de Tourisme de Château-Arnoux\, Ferme de Font Robert Avenue de la Bastide\, 04160 Château-Arnoux-Saint-Auban). Départ à pied depuis l’Office de Tourisme. \n			\n				Conditions générales de vente
URL:https://autresversants.com/event/decouverte-oiseaux-reserve-ornithologie-haute-provence/
LOCATION:Château-Arnoux-Saint-Auban\, Château-Arnoux-Saint-Auban\, Provence Alpes Côte d'Azur\, France
CATEGORIES:Balade ½ Journée,Faune
ATTACH;FMTTYPE=image/jpeg:https://autresversants.com/wp-content/uploads/2026/02/Visuels-balades-ornitho-03.jpg
ORGANIZER;CN="Autres Versants":MAILTO:simon@autresversants.com
END:VEVENT
END:VCALENDAR