BEGIN:VCALENDAR
VERSION:2.0
PRODID:-//autres versants - ECPv6.14.2//NONSGML v1.0//EN
CALSCALE:GREGORIAN
METHOD:PUBLISH
X-WR-CALNAME:autres versants
X-ORIGINAL-URL:https://autresversants.com
X-WR-CALDESC:Évènements pour autres versants
REFRESH-INTERVAL;VALUE=DURATION:PT1H
X-Robots-Tag:noindex
X-PUBLISHED-TTL:PT1H
BEGIN:VTIMEZONE
TZID:Europe/Paris
BEGIN:DAYLIGHT
TZOFFSETFROM:+0100
TZOFFSETTO:+0200
TZNAME:CEST
DTSTART:20250330T010000
END:DAYLIGHT
BEGIN:STANDARD
TZOFFSETFROM:+0200
TZOFFSETTO:+0100
TZNAME:CET
DTSTART:20251026T010000
END:STANDARD
END:VTIMEZONE
BEGIN:VEVENT
DTSTART;TZID=Europe/Paris:20251228T140000
DTEND;TZID=Europe/Paris:20251228T173000
DTSTAMP:20260421T190008
CREATED:20251221T190927Z
LAST-MODIFIED:20260112T191014Z
UID:4871-1766930400-1766943000@autresversants.com
SUMMARY:Balade d'hiver : les belvédères de la Durance
DESCRIPTION:Venez découvrir le patrimoine des de la Vallée de la Durance\, près de Sisteron. Nous ferons parler ces «vieilles pierres»\, vestiges d’une époque et révélatrices d’anciens usages et modes de vie en Haute-Provence ! Direction Volonne\, pour découvrir les superbes belvédères de la vallée de la Durance. \n\n\n\n\n\n\n\n\n\nAu programme : l’histoire géologique des terrasses de la Durance et l’utilisation des pierres locales ; découvertes des anciennes tours ruinées de Volonne (tour-horloge et tour de guet) ; observation des oiseaux. \n\n\n\nEncadrement : Randonnée en groupe (max 13 personnes)\, encadrée par un accompagnateur en montagne basé à Sisteron. Il vous fournira les éléments techniques et vous fera découvrir l’environnement local. L’itinéraire pourra être modifié en fonction des conditions météo ou de la condition physique des participant.e.s. \nMatériel indispensable :  1 sac à dos confortable (20-30L) pour vos affaires // des chaussures de montagne avec des crampons (pas de baskets lisses) // 1 tenue adaptée pour la marche (vêtements respirants et légers) // 1 gourde d’eau (1L minimum/pers pour la sortie) ou 1 Thermos // vêtements chauds : doudoune ou gros pull // 1 coupe-vent imperméable technique (type gore-tex) ou un k-way // votre traitement médical (si vous en avez). \nMatériel optionnel : votre téléphone ou appareil photo\, jumelles d’observation\, bâtons de randonnée (si vous avez l’habitude de marcher avec !) \n\n\n\n			\n			\n				\n				\n				\n				\n				\n				\n				\n				\n				\n				\n			\n				\n				\n				\n				\n				Tarifs : 25€ / adulte et 12€ / enfant (sous la responsabilité d’un adulte) \nLe prix inclus  L’encadrement par un accompagnateur en montagne\, une collation / en-cas local à partager.  \nIl n’inclus pas : Les autres encas\, l’eau\, votre transport A-R jusqu’au point de départ de la randonnée. Un covoiturage A-R sera organisé depuis l’Office de Tourisme à Sisteron. \nNiveau de difficulté : Niveau 2/5. 2h à 2h30 de marche effective et 250m de dénivelé positif au cours de l’après-midi. Balade tous publics\, s’effectuant essentiellement sur des sentiers bien marqués sans pente raide. Quelques passages « aériens » sans difficulté. Les enfants sont bienvenus ; des activités spécifiques peuvent être prévues pour eux\, merci de le signaler lors de votre inscription. \nRV devant l’Office de Tourisme de Sisteron (1 place de la République\, 04200 Sisteron) pour le covoiturage\, ou bien sur place à Volonne (parking du centre-ville\, devant la maison de santé). \n			\n				Conditions générales de vente
URL:https://autresversants.com/event/les-belvederes-de-la-durance/
LOCATION:Volonne\, Volonne\, Provence Alpes Côte d'Azur\, France
CATEGORIES:Balade ½ Journée,Coucher de soleil,Géologie
ATTACH;FMTTYPE=image/jpeg:https://autresversants.com/wp-content/uploads/2025/12/Durance-en-hiver-hauteurs-Vaumeilh.jpeg
ORGANIZER;CN="Autres Versants":MAILTO:simon@autresversants.com
END:VEVENT
END:VCALENDAR