BEGIN:VCALENDAR
VERSION:2.0
PRODID:-//autres versants - ECPv6.14.2//NONSGML v1.0//EN
CALSCALE:GREGORIAN
METHOD:PUBLISH
X-WR-CALNAME:autres versants
X-ORIGINAL-URL:https://autresversants.com
X-WR-CALDESC:Évènements pour autres versants
REFRESH-INTERVAL;VALUE=DURATION:PT1H
X-Robots-Tag:noindex
X-PUBLISHED-TTL:PT1H
BEGIN:VTIMEZONE
TZID:Europe/Paris
BEGIN:DAYLIGHT
TZOFFSETFROM:+0100
TZOFFSETTO:+0200
TZNAME:CEST
DTSTART:20250330T010000
END:DAYLIGHT
BEGIN:STANDARD
TZOFFSETFROM:+0200
TZOFFSETTO:+0100
TZNAME:CET
DTSTART:20251026T010000
END:STANDARD
END:VTIMEZONE
BEGIN:VEVENT
DTSTART;TZID=Europe/Paris:20250811T083000
DTEND;TZID=Europe/Paris:20250811T130000
DTSTAMP:20260422T004638
CREATED:20230513T110225Z
LAST-MODIFIED:20250531T164708Z
UID:2479-1754901000-1754917200@autresversants.com
SUMMARY:Rando + bière dans les Hautes Terres
DESCRIPTION:Dans un vallon au-dessus du village perché de Châteaufort\, sous les imposants sommets du Trainon et du Gourras\, nous en balade dans la forêt méditerranéenne\, avec de jolies vues sur la vallée du Sasse et les sommets des Ecrins au loin. En fin de rando\, nous irons à la rencontre de Guillaume et Susanne\, qui produisent de l’orge dans cette vallée. Ils nous expliqueront comment ils transforment cet orge en bière\, du brassage à la fermentation\, jusqu’au conditionnement\, intégralement réalisés sur place à la ferme du Forest. Vous pourrez – si vous le souhaitez – repartir avec votre « bière fermière » pour l’apéro ! \nAu programme : balade dans les terres noires autour du village de Châteaufort ; découverte de la forêt aux influences alpines et méditerranéennes (végétation\, adaptation de la flore à la sécheresse) ; démonstration du processus de l’houblonnage et de la fermentation de la bière par Guillaume Coudray et Susanne Thill\, paysan-brasseurs à la Ferme du Forest ; Possibilité d’acheter sur place en direct producteur des bières de leur production. \n\n\n\n\n\n\n\n\n\nEncadrement : Randonnée en groupe (max 13 personnes)\, encadrée par un accompagnateur en montagne basé à Sisteron. Il vous fournira les éléments techniques et vous fera découvrir l’environnement local. L’itinéraire pourra être modifié en fonction des conditions météo ou de la condition physique des participant.e.s. \nMatériel indispensable :  1 sac à dos confortable (20-30L) pour vos affaires // idéalement\, des chaussures de montagne avec des crampons ou à défaut\, une paire de baskets // 1 tenue adaptée pour la marche (vêtements respirants et légers) // 1 gourde d’eau (1L minimum/personne pour la sortie) // 1 casquette ou chapeau\, lunettes de soleil et crème solaire // 1 coupe-vent imperméable technique (type gore-tex) ou un k-way // votre traitement médical (si vous en avez). \nMatériel optionnel : votre téléphone ou appareil photo\, jumelles d’observation\, bâtons de randonnée (si vous avez l’habitude de marcher avec !)\, un peu de liquide ou votre chéquier si vous souhaitez acheter des bières à la ferme. \n\n\n\n			\n			\n				\n				\n				\n				\n				\n				\n				\n				\n				\n				\n			\n				\n				\n				\n				\n				Tarifs :  25€ / adulte et 12€ / enfant (sous la responsabilité d’un adulte) \nLe prix inclus : L’encadrement par un accompagnateur en montagne\, la visite de la ferme et la démonstration de fabrication de la bière\, une collation à partager. Il n’inclus pas : Votre transport A-R jusqu’au point de départ de la randonnée\, les autres snacks/encas et l’eau. Un covoiturage A-R sera proposé depuis l’Office de Tourisme de Sisteron. \nNiveau de difficulté : Niveau 2/5. 1h45 de marche effective et 250m de dénivelé positif au cours de la matinée\, sans difficulté technique. Balade tous publics\, s’effectuant principalement sur des sentiers bien marqués sans pente raide. Randonnée adaptée aux familles avec enfants\, dès 6 ans\, autonomes dans la marche. \nRV à 8h30 à l’Office de Tourisme de Sisteron (1 place de la République) ou à 9h au hameau des Jaumes à Châteaufort (Point GPS). Covoiturage entre les participant.e.s à la rando organisé depuis l’Office de Tourisme. \n			\n				Conditions générales de vente
URL:https://autresversants.com/event/rando-biere-dans-les-hautes-terres/
LOCATION:Chateaufort\, Châteaufort\, 04250
CATEGORIES:Balade + rencontre d’un producteur,Balade ½ Journée
ATTACH;FMTTYPE=image/jpeg:https://autresversants.com/wp-content/uploads/2023/05/Rando-biere-dans-les-Hautes-Terres.jpg
ORGANIZER;CN="Autres Versants":MAILTO:simon@autresversants.com
END:VEVENT
BEGIN:VEVENT
DTSTART;TZID=Europe/Paris:20250818T180000
DTEND;TZID=Europe/Paris:20250818T220000
DTSTAMP:20260422T004638
CREATED:20250531T165230Z
LAST-MODIFIED:20260418T212654Z
UID:4746-1755540000-1755554400@autresversants.com
SUMMARY:Géo-rando : les Pénitents des Mées au soleil couchant
DESCRIPTION:Immenses géants de pierre dominant la Durance\, les Pénitents des Mées intriguent lorsque l’on remonte la Durance\, sans pour autant qu’on s’y arrête. Je vous propose de les découvrir d’en bas… puis d’en-haut ! Nous y partagerons un apéritif lorsque le soleil se couche face à nous\, sur l’imposante montagne de Lure. Une randonnée qui nous fera remonter l’histoire géologique de la Haute-Provence (Géoparc UNESCO) et mesurer l’importance du pouvoir d’érosion des rivières. \n\nNous partons en fin d’après-midi pour le village des Mées\, célèbre pour ses « Pénitents ». Contrairement à ce que la légende raconte\, ces immenses blocs de pierres ne sont pas des moines pétrifiés… tout s’explique\, par la géologie ! \n\n\nNous commençons la balade en forêt\, puis au bord du canal de la Durance\, entre anciens tunnels\, vergers et boisements de pins\, avant d’atteindre le canal. \n\n\nCommence ensuite notre ascension\, au moment où ces roches prennent une teinte rose-orangée. En faisant le tour de ces « Pénitents »\, vous comprendrez mieux le contexte géologique ayant conduit à la formation de ces roches. Au soleil couchant\, nous partagerons un apéritif (offert par le guide) au sommet\, en regardant le soleil se coucher sur l’imposante montagne de Lure. \n\n\nLe retour se fera en début de nuit\, à la lumière de nos lampes frontales\, par le vieux village médiéval. \nAu programme – Présentation du Géoparc UNESCO de Haute-Provence et de sa géologie étonnante : conglomérats et poudingues du bassin de Valensole • Histoires réelles et fantasmées autour des Pénitents\, immenses blocs rocheux dominant la vallée de la Durance • Apéritif partagé au sommet\, au coucher du soleil\, face à la montagne de Lure \nEncadrement – Randonnée en groupe (max 13 personnes)\, encadrée par un accompagnateur en montagne basé à Sisteron. Il vous fournira les éléments techniques et vous fera découvrir l’environnement local. L’itinéraire pourra être modifié en fonction des conditions météo ou de la condition physique des participant.e.s. \nNiveau de difficulté – Niveau 2/5. 5km\, environ 2h de marche effective et 200m de dénivelé positif au cours de l’après-midi/soirée. Balade tous publics s’effectuant à un rythme tranquille\, s’effectuant sur des sentiers marqués sans pente raide.• Sentier facile mais sensation                 de vertige possible ! Les enfants sont bienvenus dès 7/8 ans\, s’ils sont autonomes et motivés pour la marche. Des activités spécifiques de découverte peuvent être prévues pour eux. \nMatériel indispensable – 1 sac à dos confortable (20-30L) pour vos affaires // des chaussures de montagne avec des crampons (pas de baskets lisses) // 1 tenue adaptée pour la marche (vêtements respirants et légers) // 1 gourde d’eau (1L minimum/personne pour la sortie) // 1 casquette ou chapeau\, lunettes de soleil et crème solaire // 1 coupe-vent imperméable technique (type gore-tex) ou un k-way // 1 pull supplémentaire pour le soir // Lampe frontale // votre traitement médical (si vous en avez). \nMatériel optionnel – votre téléphone ou appareil photo\, jumelles d’observation\, bâtons de randonnée (si vous avez l’habitude de marcher avec !) \n\n			\n			\n				\n				\n				\n				\n				\n				\n				\n				\n				\n				Tarifs :  25€ / adulte et 12€ / enfant. Réservations possibles jusqu’à la veille au soir\, 20h. Départ garanti dès 5 participants inscrits.  \nLe prix inclus : L’encadrement par un accompagnateur en montagne\, un apéritif à base de produits locaux à partager en cours de randonnée\, au soleil couchant. \nLe prix n’inclus pas : le transport jusqu’au point de départ\, les autres encas/snacks et l’eau. Un covoiturage sera organisé depuis Sisteron afin de minimiser le nombre de voitures en circulation. \nNiveau de difficulté : Niveau 2/5. 2h30 de marche effective et 200m de dénivelé positif au cours de la soirée. Balade tous publics s’effectuant à un rythme tranquille\, s’effectuant sur des sentiers bien marqués. Sentier facile mais sensation de vertige possible par endroits ! Une montée soutenue mais courte (environ 30 min)\, passages sur les crêtes (succession de petites montées/descentes). \nRV à 18h à Sisteron (devant l’Office de Tourisme pour le covoiturage) ou à 18h30 au parking des Pénitents aux Mées (Point GPS). Fin autour de 22h30.  \n			\n				Conditions générales de vente
URL:https://autresversants.com/event/geo-rando-les-penitents-des-mees-au-soleil-couchant/
LOCATION:Les Mées\, Les Mées\, Provence Alpes Côte d'Azur\, France
CATEGORIES:Balade ½ Journée,Coucher de soleil,Géologie
ATTACH;FMTTYPE=image/jpeg:https://autresversants.com/wp-content/uploads/2025/02/Les-penitents-des-Mees-nocturne.jpeg
ORGANIZER;CN="Autres Versants":MAILTO:simon@autresversants.com
END:VEVENT
BEGIN:VEVENT
DTSTART;TZID=Europe/Paris:20250825T173000
DTEND;TZID=Europe/Paris:20250825T220000
DTSTAMP:20260422T004638
CREATED:20230513T172640Z
LAST-MODIFIED:20260418T201938Z
UID:2497-1756143000-1756159200@autresversants.com
SUMMARY:Géo-rando : coucher de soleil et pleine lune sur les crêtes
DESCRIPTION:En partenariat avec l’UNESCO Géoparc de Haute-Provence\, nous partons remonter l’histoire de la Terre\, à l’époque où cette région n’était qu’un vaste océan tropical\, observer la trace de la formation des Alpes et enfin l’arrivée des glaciers…. Dans un paysage offrant des vues uniques\, entre crêtes calcaires vallée de la Durance\, nous randonnerons en fin de journée\, avant de partager un apéritif au soleil couchant… et de redescendre à la nuit tombée ! \nAu programme : \n• Randonnée géologique autour de Saint-Geniez\, pour découvrir la grande histoire de la Terre (principales ères géologiques ayant marqué l’environnement local) \n• Observation de formes géologiques étonnantes : synclinal perché\, clues\, lapiaz et nappes de charriage \n• Arrivée au sommet de Gâche où la vue s’ouvre sur toute la vallée de la Durance\, observation des traces de passage des anciens glaciers \n•  Contes et légendes locales : la Pierre Écrite et le mythe de « Théopolis » \n• Au soleil couchant\, apéritif partagé sur la crête. \n• Assister au lever de la pleine lune depuis les crêtes. Retour à la nuit tombante\, à la lueur de lune et à l’écoute des bruits de la nuit… \n			\n			\n				\n				\n				\n				\n				\n				\n				\n				\n				\n				Tarifs :  10€/ personne\, gratuit pour les -14 ans. Inscription auprès du Musée Promenade : 04 92 36 70 70. Le lieu de rendez-vous est fixé au départ de la randonnée. Le covoiturage est recommandé. \nLe prix inclus : L’encadrement par un accompagnateur en montagne\, un apéritif à base de produits locaux à partager en cours de randonnée. \nLe prix n’inclus pas : le transport jusqu’au point de départ\, les autres encas/snacks et l’eau. Un covoiturage sera organisé depuis le parking de départ afin de minimiser le nombre de voitures en circulation. \nNiveau de difficulté : Niveau 3/5. 4h de marche effective  et 500m de dénivelé positif en cumulé au cours de l’après-midi et de la soirée. Balade adaptée pour les familles avec enfants dès 8 ans. Randonnée s’effectuant à un rythme tranquille\, s’effectuant sur des sentiers bien marqués ou des pistes. \nRV à 17h sur la route de Saint-Geniez\, au Parking du site géologique « La Baleine »https://maps.app.goo.gl/fKifeD2Buk4x2bo59 \n			\n				Conditions générales de vente
URL:https://autresversants.com/event/randonnee-geologie-coucher-soleil-pleine-lune/
LOCATION:Saint-Geniez\, Saint-Geniez\, Provence Alpes Côte d'Azur\, France
CATEGORIES:Géologie,Monges,Rando journée
ATTACH;FMTTYPE=image/jpeg:https://autresversants.com/wp-content/uploads/2023/05/Famille-Saint-Geniez-Le-Forest-randonene-geologique.jpeg
ORGANIZER;CN="Autres Versants":MAILTO:simon@autresversants.com
END:VEVENT
END:VCALENDAR