BEGIN:VCALENDAR
VERSION:2.0
PRODID:-//autres versants - ECPv6.14.2//NONSGML v1.0//EN
CALSCALE:GREGORIAN
METHOD:PUBLISH
X-WR-CALNAME:autres versants
X-ORIGINAL-URL:https://autresversants.com
X-WR-CALDESC:Évènements pour autres versants
REFRESH-INTERVAL;VALUE=DURATION:PT1H
X-Robots-Tag:noindex
X-PUBLISHED-TTL:PT1H
BEGIN:VTIMEZONE
TZID:Europe/Paris
BEGIN:DAYLIGHT
TZOFFSETFROM:+0100
TZOFFSETTO:+0200
TZNAME:CEST
DTSTART:20250330T010000
END:DAYLIGHT
BEGIN:STANDARD
TZOFFSETFROM:+0200
TZOFFSETTO:+0100
TZNAME:CET
DTSTART:20251026T010000
END:STANDARD
END:VTIMEZONE
BEGIN:VEVENT
DTSTART;TZID=Europe/Paris:20250709T090000
DTEND;TZID=Europe/Paris:20250709T110000
DTSTAMP:20260422T021827
CREATED:20230929T170126Z
LAST-MODIFIED:20250531T154255Z
UID:2668-1752051600-1752058800@autresversants.com
SUMMARY:Detective Club : jeu d'enquête en nature
DESCRIPTION:L’agence DETECTIVE CLUB a une mission pour vous : résoudre un mystère autour de la disparition inquiétante d’animaux autour de Sisteron. Un jeu immersif\, 100% nature\, où vous et vos enfants partez à la découverte de la faune sauvage des environs. À vous de mener l’enquête\, de collecter des indices sur le terrain\, d’interroger des témoins pour trouver le(s) coupable(s). Une aventure où vous êtes les héros ! \nLe principe du jeu : en solo (enfants à partir de 8 ans) ou en duo parent/enfant (jeu adapté pour les enfants âgés d’au moins 6 ans) vous collaborerez en groupe pour vous rendre sur différents sites autour de Sisteron. L’animateur vous emmène sur site\, mais ensuite c’est à vous de tout faire ! A vous de faire les bons choix\, car les options sont nombreuses et le temps limité pour boucler l’enquête. \nCe que le jeu n’est pas : une sortie randonnée « classique »\, mais ce jeu implique de marcher en montagne. Le groupe adapter son itinéraire en fonction des contraintes imposées par le jeu et du temps disponible. Sur site\, les enfants seront en situation d’autonomie pour enquêter\, chercher des indices\, etc. Possibilité de laisser votre enfant « en solo » pour l’activité\, s’il est âgé d’au moins 8 ans. \nMatériel indispensable :  un petit 1 sac à dos pour vos affaires (gourde avec au moins 1L d’eau\, k-way et pull suivant la météo) // une paire de baskets // 1 casquette ou chapeau\, lunettes de soleil // votre traitement médical (si vous ou votre enfant en a) // votre téléphone. \n\n\n\n			\n			\n				\n				\n				\n				\n				\n				\n				\n				\n				\n				\n\n			\n				\n				\n				\n				\n				Inscriptions possibles jusqu’à la veille au soir (20h). Départ garanti dès 5 inscrits. \nTarif variable suivant le nombre d’enfants (6 ans et +) inscrits ensemble. La tarification dégressive est appliquée sur le panier final\, une fois le nombre de places sélectionné. \n\n\n\n1-2 👤\n25€ / enfant\n\n\n3 👤\n23€ / enfant\n\n\n4 👤\n21€ / enfant\n\n\n5 👤\n19€ / enfant\n\n\n6 👤\n17€ / enfant\n\n\n\nTarif Adulte accompagnateur : 5€ \nLe prix inclus : L’encadrement du jeu par un accompagnateur en montagne\, basé à Sisteron et une récompense finale si vous parvenez à résoudre l’énigme. \nLe prix n’inclus pas : Votre transport jusqu’au lieu de RV (Office de Tourisme de Sisteron)\, les encas et l’eau pour vous et votre enfant. \nNiveau de difficulté : Niveau 2/5. 2h de marche effective et environ 250m de dénivelé positif (suivant le parcours choisi par le groupe). Jeu tous publics adaptés aux enfants dès 6 ans\, s’effectuant uniquement sur des sentiers bien marqués sans pente raide. Néanmoins\, tous les chemins ne sont pas accessibles aux poussettes. \nRV devant l’Office de Tourisme de Sisteron (1 place de la République\, 04200 Sisteron). Parking gratuit avec disque (zone bleue) sur place ou à la gare SNCF. Départ à pied depuis l’Office de Tourisme. \n			\n				Conditions générales de vente
URL:https://autresversants.com/event/detective-club-jeu-enquete-nature/
LOCATION:Sisteron\, Sisteron\, Provence-Alpes-Côte d'Azur\, France
CATEGORIES:Detective Club,Jeu,Sisteron
ATTACH;FMTTYPE=image/jpeg:https://autresversants.com/wp-content/uploads/2025/01/Detective-Club-enfants-en-foret.jpeg
ORGANIZER;CN="Autres Versants":MAILTO:simon@autresversants.com
END:VEVENT
BEGIN:VEVENT
DTSTART;TZID=Europe/Paris:20250717T180000
DTEND;TZID=Europe/Paris:20250717T220000
DTSTAMP:20260422T021827
CREATED:20230417T071404Z
LAST-MODIFIED:20250531T155218Z
UID:2382-1752775200-1752789600@autresversants.com
SUMMARY:Rando lavandes autour du château de Mison
DESCRIPTION:C’est une petite balade en surplomb de la vallée du Buëch que je vous propose\, autour du vieux village de Mison. Nichée sur un promontoire naturel constitué de roches charriées par les glaciers\, entre Buëch et Durance\, la commune offre de beaux panoramas sur les gorges de la Méouge en face. Nous commencerons notre marche au milieu des lavandes et la finirons au bord du Buëch\, à la découverte d’une rivière encore sauvage. En début de soirée\, une courte montée au château nous ouvrira une vue exceptionnelle sur les Alpes\, aux portes de la Provence. Nous y partagerons un apéritif sous les lumières déclinantes de la fin de journée.  \nAu programme : balade au milieu des cultures de lavandin en fleur sur le plateau des Romeyeres ; découverte de l’arboriculture (pommes) dans la vallée du Buëch ; présentation de la géologie étonnante du site (marnes\, poudingues et moraines glacières) ; histoire médiévale du château et du village ; apéritif partagé avec la vue à 360° depuis le rocher du château sur l’Ubaye\, les Ecrins\, le Devoluy et les Baronnies… \n\n\n\n\n\n\n\n\n\nEncadrement : Randonnée en groupe (max 15 personnes)\, encadrée par un accompagnateur en montagne basé à Sisteron. Il vous fournira les éléments techniques et vous fera découvrir l’environnement local. L’itinéraire pourra être modifié en fonction des conditions météo ou de la condition physique des participant.e.s. \nMatériel indispensable :  1 sac à dos confortable (20-30L) pour vos affaires // idéalement\, des chaussures de montagne avec des crampons ou à défaut\, une paire de baskets // 1 tenue adaptée pour la marche (vêtements respirants et légers) // 1 gourde d’eau (1L minimum/personne pour la sortie) // 1 casquette ou chapeau\, lunettes de soleil et crème solaire // 1 coupe-vent imperméable technique (type gore-tex) ou un k-way // 1 pull supplémentaire pour le soir // votre traitement médical (si vous en avez). \nMatériel optionnel : votre téléphone ou appareil photo\, jumelles d’observation\, bâtons de randonnée (si vous avez l’habitude de marcher avec !) \n\n\n\n			\n			\n				\n				\n				\n				\n				\n				\n				\n				\n				\n				\n			\n				\n				\n				\n				\n				Tarifs :  25€ / adulte et 12€ / enfant (sous la responsabilité d’un adulte) \nLe prix inclus : L’encadrement par un accompagnateur en montagne\, un apéritif (collation et en-cas local) à partager. Il n’inclus pas : Votre transport A-R jusqu’au point de départ de la randonnée. Un covoiturage sera organisé depuis l’Office de Tourisme à Sisteron. \nNiveau de difficulté : Niveau 1/5. 1h30 à 2h de marche effective et 200m de dénivelé positif au cours de la soirée. Balade tous publics s’effectuant à un rythme tranquille\, s’effectuant uniquement sur des sentiers et des pistes bien marquées sans pente raide.  \nRV à 18h devant l’Office de Tourisme de Sisteron (1 place de la République\, 04200 Sisteron). Retour vers 22h.  \n			\n				Conditions générales de vente
URL:https://autresversants.com/event/randonnee-buech-lavandes/
LOCATION:Mison\, Mison\, 04200\, France
CATEGORIES:Balade ½ Journée,Coucher de soleil
ATTACH;FMTTYPE=image/jpeg:https://autresversants.com/wp-content/uploads/2025/05/Photo-ete-site-web-4.jpeg
ORGANIZER;CN="Autres Versants":MAILTO:simon@autresversants.com
END:VEVENT
END:VCALENDAR