BEGIN:VCALENDAR
VERSION:2.0
PRODID:-//autres versants - ECPv6.14.2//NONSGML v1.0//EN
CALSCALE:GREGORIAN
METHOD:PUBLISH
X-WR-CALNAME:autres versants
X-ORIGINAL-URL:https://autresversants.com
X-WR-CALDESC:Évènements pour autres versants
REFRESH-INTERVAL;VALUE=DURATION:PT1H
X-Robots-Tag:noindex
X-PUBLISHED-TTL:PT1H
BEGIN:VTIMEZONE
TZID:Europe/Paris
BEGIN:DAYLIGHT
TZOFFSETFROM:+0100
TZOFFSETTO:+0200
TZNAME:CEST
DTSTART:20250330T010000
END:DAYLIGHT
BEGIN:STANDARD
TZOFFSETFROM:+0200
TZOFFSETTO:+0100
TZNAME:CET
DTSTART:20251026T010000
END:STANDARD
END:VTIMEZONE
BEGIN:VEVENT
DTSTART;TZID=Europe/Paris:20250614T183000
DTEND;TZID=Europe/Paris:20250614T220000
DTSTAMP:20260422T034920
CREATED:20240303T162139Z
LAST-MODIFIED:20250314T084602Z
UID:3799-1749925800-1749938400@autresversants.com
SUMMARY:Balade nocturne autour de Sisteron
DESCRIPTION:Après une balade au soleil couchant sur les hauteurs de la ville\, nous partirons à la découverte de la faune crépusculaire et nocturne. Après un apéritif partagé sur les crêtes\, je vous inviterai au retour à une déambulation nocturne dans les ruelles de Sisteron : la citadelle et le rocher de la Baume sont magnifiques une fois la nuit venue. \nAu programme : Découverte du site naturel de Sisteron depuis les sommets environnants en fin d’après-midi • Apéritif au coucher du soleil face à la vallée du Buëch et les Baronnies • Randonnée nocturne en forêt au-dessus du Buëch (massif du Collet) pour découvrir les sons et les animaux de la nuit • Retour à Sisteron pour se promener dans les ruelles éclairées de la vieille ville et passage au pied de la falaise de la Baume\, bénéficiant d’un bel éclairage nocturne. \n\n\n\n\n\n\n\n\n\nEncadrement : Randonnée en groupe (max 13 personnes)\, encadrée par un accompagnateur en montagne basé à Sisteron. Il vous fournira les éléments techniques et vous fera découvrir l’environnement local. L’itinéraire pourra être modifié en fonction des conditions météo ou de la condition physique des participant.e.s. \nMatériel indispensable :  1 sac à dos confortable (20-30L) pour vos affaires // idéalement\, des chaussures de montagne avec des crampons ou à défaut\, une paire de baskets // 1 tenue adaptée pour la marche (vêtements respirants et légers\, pantalon) // 1 gourde d’eau (1L minimum/personne pour la sortie) // 1 casquette ou chapeau\, lunettes de soleil et crème solaire // 1 coupe-vent imperméable technique (type gore-tex) ou un k-way // 1 pull supplémentaire pour le soir // une lampe frontale ou votre téléphone chargé avec torche // votre traitement médical (si vous en avez). \nMatériel optionnel : appareil photo\, jumelles d’observation\, bâtons de randonnée (si vous avez l’habitude de marcher avec !) \n\n\n\n			\n			\n				\n				\n				\n				\n				\n				\n				\n				\n				\n				\n\n			\n				\n				\n				\n				\n				Tarifs : 25€ / adulte et 12€ / enfant (sous la responsabilité d’un adulte). Inscriptions possible jusqu’à la veille au soir (20h). Départ garanti dès 5 inscrits. \nLe prix inclus : L’encadrement par un accompagnateur en montagne\, un apéritif  à partager au pied de la citadelle. Il n’inclus pas : Les autres encas et l’eau. \nNiveau de difficulté : Niveau 2/5. 2h de marche effective et 150m de dénivelé positif au cours de la soirée. Randonnée tous publics\, s’effectuant à un rythme tranquille en montée\, uniquement sur des sentiers ou des pistes bien marquées\, sans pente raide. Randonnée adaptée aux familles avec enfants dès 6 ans\, s’ils sont à l’aise avec l’idée de marcher la nuit. \nRV devant l’Office de Tourisme à Sisteron (1 place de la République). Départ à pied depuis l’Office de Tourisme. Parking gratuit avec disque (zone bleue) devant la Mairie.\n			\n				Conditions générales de vente
URL:https://autresversants.com/event/balade-nocturne-autour-de-sisteron/
LOCATION:Sisteron\, Sisteron\, Provence-Alpes-Côte d'Azur\, France
CATEGORIES:Balade ½ Journée,Coucher de soleil,Nocturne,Sisteron
ATTACH;FMTTYPE=image/jpeg:https://autresversants.com/wp-content/uploads/2024/03/Balade-nocturne-Sisteron.jpeg
ORGANIZER;CN="Autres Versants":MAILTO:simon@autresversants.com
END:VEVENT
END:VCALENDAR