BEGIN:VCALENDAR
VERSION:2.0
PRODID:-//autres versants - ECPv6.14.2//NONSGML v1.0//EN
CALSCALE:GREGORIAN
METHOD:PUBLISH
X-ORIGINAL-URL:https://autresversants.com
X-WR-CALDESC:Évènements pour autres versants
REFRESH-INTERVAL;VALUE=DURATION:PT1H
X-Robots-Tag:noindex
X-PUBLISHED-TTL:PT1H
BEGIN:VTIMEZONE
TZID:Europe/Paris
BEGIN:DAYLIGHT
TZOFFSETFROM:+0100
TZOFFSETTO:+0200
TZNAME:CEST
DTSTART:20240331T010000
END:DAYLIGHT
BEGIN:STANDARD
TZOFFSETFROM:+0200
TZOFFSETTO:+0100
TZNAME:CET
DTSTART:20241027T010000
END:STANDARD
END:VTIMEZONE
BEGIN:VEVENT
DTSTART;TZID=Europe/Paris:20240708T080000
DTEND;TZID=Europe/Paris:20240708T123000
DTSTAMP:20260422T231637
CREATED:20240604T171251Z
LAST-MODIFIED:20240604T172540Z
UID:4017-1720425600-1720441800@autresversants.com
SUMMARY:De la fleur au miel : balade au milieu des lavandes et visite d’une miellerie
DESCRIPTION:En juillet\, lorsque les lavandes sont en fleur\, nous partons pour les Hautes Terres de Provence. Après une balade en campagne\, au milieu des ruches et des prés en fleurs\, Camille Girard et Paul Négrel nous ouvrent les portes de leur miellerie. Ils nous montreront les étapes de la transformation du miel\, les différentes fleurs butinées (miel de garrigue\, des prés\, de montagne…) et nous feront goûter leur production. \n\n\n\n\nAu programme : Découverte des Hautes Terres de Provence\, entre arboriculture\, prés de fauche et champs de lavande • Balade sans difficulté au milieu des champs (lavandin\, sainfoin\, céréales…)\, environnés de montagnes • Présentation des principales plantes mellifères et des insectes spécialistes de la pollinisation • Visite de la miellerie de Camille & Paul\, apiculteurs récoltants et dégustation de leur production. \n\n\n\n\n\n\n\n\n\nEncadrement : Randonnée en groupe (max 13 personnes)\, encadrée par un accompagnateur en montagne basé à Sisteron. Il vous fournira les éléments techniques et vous fera découvrir l’environnement local. L’itinéraire pourra être modifié en fonction des conditions météo ou de la condition physique des participant.e.s. \nMatériel indispensable :  1 sac à dos confortable (20-30L) pour vos affaires // idéalement\, des chaussures de montagne avec des crampons ou à défaut\, une paire de baskets // 1 tenue adaptée pour la marche (vêtements respirants et légers) // 1 gourde d’eau (1L minimum/personne pour la sortie) // 1 casquette ou chapeau\, lunettes de soleil et crème solaire // 1 coupe-vent imperméable technique (type gore-tex) ou un k-way en fonction du temps // votre traitement médical (si vous en avez). \nMatériel optionnel : appareil photo\, jumelles d’observation\, bâtons de randonnée (si vous avez l’habitude de marcher avec !) \n\n\n\n			\n			\n				\n				\n				\n				\n				\n				\n				\n				\n				\n				\n			\n				\n				\n				\n				\n				Tarifs : 25€ / adulte et 12€ / enfant (sous la responsabilité d’un adulte). Inscriptions jusqu’à la veille au soir (20h). Départ garanti dès 6 inscrits. \nLe prix inclut : L’encadrement par un accompagnateur en montagne\, un apéritif  à partager sur les crêtes. Il n’inclut pas : Votre transport A-R jusqu’au point de départ de la randonnée\, les autres encas et l’eau. Un covoiturage A-R sera organisé depuis l’Office de Tourisme à Sisteron. \nNiveau de difficulté : Niveau 1/5. 1h45 de marche effective et 100m de dénivelé positif au cours de la matinée • Balade tous publics s’effectuant à un rythme tranquille\, s’effectuant sur des sentiers bien marqués • Aucune difficulté technique. Sortie adaptée aux enfants dès 6 ans. \nRV à 8h devant l’Office de Tourisme à Sisteron (1 place de la République) ou à 8h45 au village de la Motte du Caire (Point GPS). Covoiturage entre les participant.e.s organisé au départ depuis l’Office de Tourisme\, afin de minimiser le nombre de véhicules empruntés pour la sortie. \n			\n				Conditions générales de vente
URL:https://autresversants.com/event/de-la-fleur-au-miel-balade-au-milieu-des-lavandes-et-visite-dune-miellerie/
LOCATION:La Motte du Caire\, La Motte du Caire\, Provence Alpes Côte d'Azur\, France
CATEGORIES:Balade + rencontre d’un producteur,Balade ½ Journée
ATTACH;FMTTYPE=image/png:https://autresversants.com/wp-content/uploads/2024/06/Des-abeilles-au-miel.png
ORGANIZER;CN="Autres Versants":MAILTO:simon@autresversants.com
END:VEVENT
BEGIN:VEVENT
DTSTART;TZID=Europe/Paris:20240715T080000
DTEND;TZID=Europe/Paris:20240715T130000
DTSTAMP:20260422T231637
CREATED:20240604T173556Z
LAST-MODIFIED:20240604T174926Z
UID:4027-1721030400-1721048400@autresversants.com
SUMMARY:Cascades et anciens glaciers : sur la route des Hautes Terres
DESCRIPTION:Au départ de Clamensane\, nous remontons les petites routes des Hautes-Terres pour aller admirer cascades et plissements géologiques étonnants. Après les célèbres tourniquets de Bayons\, s’ouvre la vue sur les Écrins depuis le belvédère de Bois Noir. Une matinée où l’on remonte à la fois la vallée\, et le temps… en découvrant des lieux insolites chargés d’une histoire qui se compte en millions d’années. \n\n\n\n\n\n\n\n\nAu programme : 3 arrêts le long de la Route des Hautes Terres : itinéraire de découverte du Géoparc UNESCO de Haute-Provence. • Premier arrêt à la cascade du Forest et au cœur des gorges du Sasse\, où l’eau dévale la roche sur plus de 20m ! • Les Tourniquets de Bayons et la vue sur la crête des Monges • La géologie étonnante du Géoparc et les traces des anciens glaciers dans le paysage depuis le Belvédère du Bois Noir • Apéritif en fin de matinée avec la vue sur toute la chaîne des Écrins. \n\n\n\n\n\n\n\n\n\nEncadrement : Randonnée en groupe (max 13 personnes)\, encadrée par un accompagnateur en montagne basé à Sisteron. Il vous fournira les éléments techniques et vous fera découvrir l’environnement local. L’itinéraire pourra être modifié en fonction des conditions météo ou de la condition physique des participant.e.s. \nMatériel indispensable :  1 sac à dos confortable (20-30L) pour vos affaires // idéalement\, des chaussures de montagne avec des crampons ou à défaut\, une paire de baskets // 1 tenue adaptée pour la marche (vêtements respirants et légers) // 1 gourde d’eau (1L minimum/personne pour la sortie) // 1 casquette ou chapeau\, lunettes de soleil et crème solaire // 1 coupe-vent imperméable technique (type gore-tex) ou un k-way en fonction du temps // votre traitement médical (si vous en avez). \nMatériel optionnel : appareil photo\, jumelles d’observation\, bâtons de randonnée (si vous avez l’habitude de marcher avec !) \n\n\n\n			\n			\n				\n				\n				\n				\n				\n				\n				\n				\n				\n				\n			\n				\n				\n				\n				\n				Tarifs : 25€ / adulte et 12€ / enfant (sous la responsabilité d’un adulte). Inscriptions jusqu’à la veille au soir (20h). Départ garanti dès 6 inscrits. \nLe prix inclus : L’encadrement par un accompagnateur en montagne\, un apéritif  à partager sur les crêtes. Il n’inclus pas : Votre transport A-R jusqu’au point de départ de la randonnée\, les autres encas et l’eau. Un covoiturage A-R sera organisé depuis l’Office de Tourisme à Sisteron. \nNiveau de difficulté : Niveau 1/5. 1h30 de marche effective et 100m de dénivelé positif en cumulé au cours de la matinée. Balade adaptée pour les familles avec enfants dès 6 ans. • Randonnée s’effectuant à un rythme tranquille\, s’effectuant sur des sentiers bien marqués ou des pistes. • Aucune difficulté technique \nRV à 8h devant l’Office de Tourisme à Sisteron (1 place de la République) ou à 8h30 au camping du Clot du Jay à Clamensane (Point GPS). Covoiturage entre les participant.e.s organisé au départ depuis l’Office de Tourisme\, afin de minimiser le nombre de véhicules empruntés pour la sortie. \n			\n				Conditions générales de vente
URL:https://autresversants.com/event/cascades-et-traces-des-anciens-glaciers-sur-la-route-des-hautes-terres/
LOCATION:Bayons\, Bayons\, Provence Alpes Côte d'Azur
CATEGORIES:Balade + rencontre d’un producteur,Balade ½ Journée
ATTACH;FMTTYPE=image/jpeg:https://autresversants.com/wp-content/uploads/2024/06/IMG_9424.jpeg
ORGANIZER;CN="Autres Versants":MAILTO:simon@autresversants.com
END:VEVENT
BEGIN:VEVENT
DTSTART;TZID=Europe/Paris:20240722T183000
DTEND;TZID=Europe/Paris:20240723T000000
DTSTAMP:20260422T231637
CREATED:20240108T210602Z
LAST-MODIFIED:20240605T180526Z
UID:3130-1721673000-1721692800@autresversants.com
SUMMARY:Coucher de soleil et rando nocturne au lac des Monges
DESCRIPTION:Envie de découvrir un massif préalpin sauvage\, très peu peuplé et à l’écart des circuits habituels en randonnée ? Bienvenue dans les Monges ! Nous partons au coeur du massif\, pour découvrir une superbe forêt de montagne aux essences variées\, des pâturages avant l’arrivée des moutons l’été\, ainsi qu’un petit lac magnifique en toute saison. Nous finirons cette marche la nuit\, à la lueur de nos lampes\, avec tous nos sens en éveil. \nAu programme : Randonnée dans la forêt domaniale des Monges aux multiples essences d’arbres puis dans les alpages • Montée au col de Clapouse pour observer la vue sur les sommets • Coucher de soleil et apéritif partagé au bord du lac des Monges • Contes\, mythes et petites histoires pour les enfants pour découvrir les animaux crépusculaires et nocturnes • Marche nocturne en forêt à l’écoute des bruits de la nuit pour rentrer jusqu’au parking \n\n\n\n\n\n\n\n\n\nEncadrement : Randonnée en groupe (max 13 personnes)\, encadrée par un accompagnateur en montagne basé à Sisteron. Il vous fournira les éléments techniques et vous fera découvrir l’environnement local. L’itinéraire pourra être modifié en fonction des conditions météo ou de la condition physique des participant.e.s. \nMatériel indispensable :  1 sac à dos confortable (20-30L) pour vos affaires // idéalement\, des chaussures de montagne avec des crampons ou à défaut\, une paire de baskets // 1 tenue adaptée pour la marche (vêtements respirants et légers) // 1 gourde d’eau (1L minimum/personne pour la sortie) // 1 casquette ou chapeau\, 1 bonnet pour le soir s’il fait froid // 1 coupe-vent imperméable technique (type gore-tex) ou un k-way // 1 pull supplémentaire pour le soir // votre lampe frontale ou un téléphone chargé avec torche // votre traitement médical (si vous en avez). \nMatériel optionnel : votre téléphone ou appareil photo\, jumelles d’observation\, bâtons de randonnée (si vous avez l’habitude de marcher avec !) \n\n\n\n			\n			\n				\n				\n				\n				\n				\n				\n				\n				\n				\n				\n			\n				\n				\n				\n				\n				Tarifs :  25€ / adulte et 12€ / enfant (sous la responsabilité d’un adulte). Inscriptions possibles jusqu’à la veille au soir (20h)\, départ garanti dès 6 inscrits. \nLe prix inclus : L’encadrement par un accompagnateur en montagne\, un apéritif (collation et en-cas local) à partager. Il n’inclus pas : Votre transport A-R jusqu’au point de départ de la randonnée. Un covoiturage A-R sera organisé depuis l’Office de Tourisme de Sisteron. \nNiveau de difficulté : Niveau 3/5. 3h30 de marche effective et environ 330m de dénivelé positif au cours de la soirée. Randonnée tous publics s’effectuant à un rythme tranquille en montée\, uniquement sur des sentiers ou des pistes bien marquées\, sans pente raide. Randonnée adaptée aux familles avec enfants\, s’ils sont à l’aise avec l’idée de marcher la nuit. \nRV à 18h30 devant l’Office de Tourisme de Sisteron ou à 19h30 au village d’Esparron-la-Bâtie / Hameau du Pont (Point GPS) Covoiturage organisé entre les participant.e.s à la sortie afin de minimiser le nombre de véhicules que nous emprunterons. Sur la fin\, 3 km de piste forestière pour rejoindre le point de départ. \n			\n				Conditions générales de vente
URL:https://autresversants.com/event/decouverte-du-lac-des-monges/
LOCATION:Esparron-la-Batie\, Esparron-la-Bâtie\, Bayons\, 04250\, France
CATEGORIES:Balade ½ Journée,Coucher de soleil,Monges,Nocturne
ATTACH;FMTTYPE=image/jpeg:https://autresversants.com/wp-content/uploads/2024/01/Lac-des-Monges-en-hiver.jpeg
ORGANIZER;CN="Autres Versants":MAILTO:simon@autresversants.com
END:VEVENT
BEGIN:VEVENT
DTSTART;TZID=Europe/Paris:20240729T070000
DTEND;TZID=Europe/Paris:20240729T113000
DTSTAMP:20260422T231637
CREATED:20240604T195204Z
LAST-MODIFIED:20240604T200322Z
UID:4045-1722236400-1722252600@autresversants.com
SUMMARY:Découverte de la rivière : les gorges du Sasse
DESCRIPTION:Au bord de la rivière du Sasse et des torrents qui l’alimentent\, je vous propose une randonnée familiale « à la fraîche » tôt le matin\, avant les fortes chaleurs de l’été. Nous découvrirons la vie aquatique des rivières en tresse et torrents des Alpes du Sud. À cette heure matinale\, nous partons rencontrer celles et ceux qui les peuplent : poissons\, amphibiens\, reptiles et oiseaux des rives et sablières… Nous parlerons aussi de la géologie surprenante liée aux anciennes rivières et glaciers de la région. \n\n\n\n\n\n\n\n\n\n\n\n\nAu programme : 2 petites balades au bord des rivières (le Sasse et un torrent affluent)\, comprenant une grande variété d’essences d’arbres et de roches que nous apprendrons à reconnaître • Observation des oiseaux (et notamment le magnifique guêpier d’Europe\, oiseau multicolore passant l’été dans la région)\, reptiles et amphibiens des bords de rivière • Détour par une cascade et observation de la faune rupestre (vivant dans les rochers) • Petit-déjeuner (café + petits gâteaux) en bord de rivière à l’écoute des bruits de la rivière \n\n\n\n\n\n\n\n\n\nEncadrement : Randonnée en groupe (max 13 personnes)\, encadrée par un accompagnateur en montagne basé à Sisteron. Il vous fournira les éléments techniques et vous fera découvrir l’environnement local. L’itinéraire pourra être modifié en fonction des conditions météo ou de la condition physique des participant.e.s. \nMatériel indispensable :  1 sac à dos confortable (20-30L) pour vos affaires // idéalement\, des chaussures de montagne avec des crampons ou à défaut\, une paire de baskets // 1 tenue adaptée pour la marche (vêtements respirants et légers) // 1 gourde d’eau (1L minimum/personne pour la sortie) // 1 casquette ou chapeau\, lunettes de soleil et crème solaire // 1 coupe-vent imperméable technique (type gore-tex) ou un k-way en fonction du temps // votre traitement médical (si vous en avez). \nMatériel optionnel : appareil photo\, jumelles d’observation\, bâtons de randonnée (si vous avez l’habitude de marcher avec !) \n\n\n\n			\n			\n				\n				\n				\n				\n				\n				\n				\n				\n				\n				\n			\n				\n				\n				\n				\n				Tarifs : 25€ / adulte et 12€ / enfant (sous la responsabilité d’un adulte). Inscriptions jusqu’à la veille au soir (20h). Départ garanti dès 6 inscrits. \nLe prix inclus : L’encadrement par un accompagnateur en montagne\, un petit-déjeuner à partager. Il n’inclus pas : Votre transport A-R jusqu’au point de départ de la randonnée\, les autres encas et l’eau. Un covoiturage A-R sera organisé depuis l’Office de Tourisme à Sisteron. \nNiveau de difficulté : Niveau 2/5. 1h45 à 2h de marche effective et 100m de dénivelé positif en cumulé au cours de la matinée. Balade adaptée pour les familles avec enfants dès 6 ans. • Randonnée s’effectuant à un rythme tranquille\, s’effectuant sur des sentiers bien marqués dans des zones de galets en bord de rivière. \nRV à 7h devant l’Office de Tourisme à Sisteron (1 place de la République) ou à 7h30 au camping du Clot du Jay à Clamensane (Point GPS). Covoiturage entre les participant.e.s organisé au départ depuis l’Office de Tourisme\, afin de minimiser le nombre de véhicules empruntés pour la sortie. \n			\n				Conditions générales de vente
URL:https://autresversants.com/event/decouverte-de-la-riviere-les-gorges-du-sasse/
LOCATION:Bayons\, Bayons\, Provence Alpes Côte d'Azur
CATEGORIES:Balade ½ Journée,Faune
ATTACH;FMTTYPE=image/jpeg:https://autresversants.com/wp-content/uploads/2024/06/Vallee-du-Sasse-Sur-la-route-des-Hautes-Terres.jpg
ORGANIZER;CN="Autres Versants":MAILTO:simon@autresversants.com
END:VEVENT
END:VCALENDAR