BEGIN:VCALENDAR
VERSION:2.0
PRODID:-//autres versants - ECPv6.14.2//NONSGML v1.0//EN
CALSCALE:GREGORIAN
METHOD:PUBLISH
X-ORIGINAL-URL:https://autresversants.com
X-WR-CALDESC:Évènements pour autres versants
REFRESH-INTERVAL;VALUE=DURATION:PT1H
X-Robots-Tag:noindex
X-PUBLISHED-TTL:PT1H
BEGIN:VTIMEZONE
TZID:Europe/Paris
BEGIN:DAYLIGHT
TZOFFSETFROM:+0100
TZOFFSETTO:+0200
TZNAME:CEST
DTSTART:20240331T010000
END:DAYLIGHT
BEGIN:STANDARD
TZOFFSETFROM:+0200
TZOFFSETTO:+0100
TZNAME:CET
DTSTART:20241027T010000
END:STANDARD
END:VTIMEZONE
BEGIN:VEVENT
DTSTART;TZID=Europe/Paris:20240504T140000
DTEND;TZID=Europe/Paris:20240504T170000
DTSTAMP:20260424T125509
CREATED:20230929T162922Z
LAST-MODIFIED:20240317T210241Z
UID:2647-1714831200-1714842000@autresversants.com
SUMMARY:Escape Game nature : les environs de Sisteron
DESCRIPTION:Au cours de ce jeu 100% nature\, inspiré du principe des escape game (codes à déchiffrer\, indices à ouvrir\, énigmes et défis en tous genres)\, vous découvrirez autrement le site naturel autour de Sisteron. Falaise de la Baume\, bords de Durance\, la citadelle\, anciens canaux et forêts… c’est en partant sur les traces d’une mystérieuse famille Sisteronaise que vous et vos enfants découvriront autrement la région ! Une micro-aventure en nature pour toute la famille\, où il faudra faire preuve d’orientation et de logique.  \nLe principe du jeu : en solo (enfants à partir de 9-10 ans) ou en duo parent/enfant (jeu adapté pour les enfants âgés d’au moins 7 ans) vous collaborerez en groupe pour vous rendre sur différents sites. L’animateur vous suit et peut vous aidez si vous en ressentez le besoin\, mais c’est vous qui faites tout !  \nCe que le jeu n’est pas : une sortie randonnée accompagnée « classique »\, mais un jeu qui implique de la marche (environ 2h). Le groupe fera ses propres choix d’itinéraire en fonction des contraintes imposées par le jeu. Possibilité de laisser votre enfant « en solo » pour l’activité\, s’il est âgé d’au moins 9-10 ans.  \nMatériel indispensable :  un petit 1 sac à dos pour vos affaires (gourde avec au moins 1L d’eau\, k-way et pull suivant la météo) // une paire de baskets // 1 casquette ou chapeau\, lunettes de soleil // votre traitement médical (si vous ou votre enfant en a) // votre téléphone. \n\n\n\n			\n			\n				\n				\n				\n				\n				\n				\n				\n				\n				\n				\n			\n				\n				\n				\n				\n				Tarifs :  15€ / enfant et 10€ / adulte accompagnant. \nLe prix inclut : L’encadrement par un accompagnateur en montagne\, spécialiste du Sisteronais. \nLe prix n’inclut pas : Votre transport jusqu’au lieu de RV (Office de Tourisme de Sisteron)\, les encas et l’eau pour vous et votre enfant. \nNiveau de difficulté : Niveau 2/5. 2h15 de marche effective et environ 350m de dénivelé positif (suivant le parcours choisi par le groupe). Jeu tous publics adaptés aux enfants dès 7 ans\, s’effectuant uniquement sur des sentiers bien marqués sans pente raide. Néanmoins\, tous les chemins ne sont pas accessibles aux poussettes. \nRV à 9h devant l’Office de Tourisme de Sisteron (1 place de la République\, 04200 Sisteron). Parking gratuit avec disque (zone bleue) sur place ou à la gare SNCF. Départ à pied depuis l’Office de Tourisme. \n			\n				Conditions générales de vente
URL:https://autresversants.com/event/escape-game-en-nature/
LOCATION:Sisteron\, Sisteron\, Provence-Alpes-Côte d'Azur\, France
CATEGORIES:Jeu
ATTACH;FMTTYPE=image/png:https://autresversants.com/wp-content/uploads/2023/09/Escape-Game-Sisteron-foret.png
ORGANIZER;CN="Autres Versants":MAILTO:simon@autresversants.com
END:VEVENT
BEGIN:VEVENT
DTSTART;TZID=Europe/Paris:20240508T090000
DTEND;TZID=Europe/Paris:20240508T130000
DTSTAMP:20260424T125509
CREATED:20230222T153205Z
LAST-MODIFIED:20240303T170436Z
UID:1154-1715158800-1715173200@autresversants.com
SUMMARY:Rando botanique sur les crêtes des Monges
DESCRIPTION:C’est dans les Monges\, massif méconnu et terre de contrastes entre Alpes et Provence\, que je vous emmène pour une initiation botanique sur les plantes à fleur. Massif connu pour sa géologie et son pastoralisme intense\, la double influence climatique en fait un joli terrain de jeu. Allons observer plus attentivement la flore des crêtes calcaires ! \nAu programme \n\nComprendre les influences climatiques (Alpines et méditerranéennes) qui traversent le massif au travers d’exemples de fleurs : s’entrainer l’identification d’espèces communes ou plus rares.\nDécouvrir les modes de reproduction de certaines plantes à fleur et leurs milieux de prédilection\nS’entraîner à reconnaître quelques grandes familles de plantes au moyen de clés de détermination\nIdentifier les stratégies d’adaptation des espèces face aux contraintes du milieu naturel (chaleur\, manque d’eau\, broutage…)\n\n \n\n\n\n\n\nEncadrement : Randonnée en groupe (max 13 personnes)\, encadrée par un accompagnateur en montagne basé à Sisteron. Il vous fournira les éléments techniques et vous fera découvrir l’environnement local. L’itinéraire pourra être modifié en fonction des conditions météo ou de la condition physique des participant.e.s. \nMatériel indispensable :  1 sac à dos confortable (20-30L) pour vos affaires // des chaussures de montagne avec des crampons (pas de baskets lisses) // 1 tenue adaptée et confortable pour la marche (vêtements respirants et légers) // 1 gourde d’eau (1L minimum pour la demie-journée) // 1 casquette ou chapeau\, lunettes de soleil et crème solaire // 1 coupe-vent imperméable technique (type gore-tex) ou un k-way en fonction du temps // votre traitement médical (si vous en avez).  \nMatériel optionnel : votre téléphone ou appareil photo\, jumelles d’observation\, guide botanique\, bâtons de randonnée (si vous avez l’habitude de marcher avec !) \n\n\n\n			\n			\n				\n				\n				\n				\n				\n				\n				\n				\n				\n				\n			\n				\n				\n				\n				\n				Tarifs :  25€ / adulte et 12€ / enfant (sous la responsabilité d’un adulte) \nLe prix inclut : L’encadrement par un accompagnateur en montagne\, une collation / en-cas local à partager.  \nLe prix n’inclut pas : Votre transport A-R jusqu’au point de départ de la randonnée\, les autres encas et l’eau. \nNiveau de difficulté : Niveau 2/5. 250m de dénivelé positif au cours de la matinée\, sans difficulté technique\, à l’exception d’un court passage en pierrier appelant une + grande vigilance. Randonnée destinée aux marcheurs occasionnels et réguliers\, s’effectuant sur des sentiers bien marqués. Les enfants sont bienvenus ; des activités spécifiques de découverte peuvent être prévues pour eux\, merci de le signaler lors de votre inscription. \nRV devant l’Office de Tourisme de Sisteron (1 place de la République\, 04200 Sisteron). Un covoiturage sera organisé depuis l’Office de Tourisme\, afin de minimiser le nombre de véhicules que nous emprunterons. \n			\n				Conditions générales de vente
URL:https://autresversants.com/event/rando-botanique-sur-les-chemins-des-cretes/
LOCATION:Saint-Geniez\, Saint-Geniez\, Provence Alpes Côte d'Azur\, France
CATEGORIES:Balade ½ Journée,Monges
ATTACH;FMTTYPE=image/jpeg:https://autresversants.com/wp-content/uploads/2023/02/Fleurs-cretes-Haut-Verdon-scaled.jpeg
ORGANIZER;CN="Autres Versants":MAILTO:simon@autresversants.com
END:VEVENT
END:VCALENDAR