BEGIN:VCALENDAR
VERSION:2.0
PRODID:-//autres versants - ECPv6.14.2//NONSGML v1.0//EN
CALSCALE:GREGORIAN
METHOD:PUBLISH
X-WR-CALNAME:autres versants
X-ORIGINAL-URL:https://autresversants.com
X-WR-CALDESC:Évènements pour autres versants
REFRESH-INTERVAL;VALUE=DURATION:PT1H
X-Robots-Tag:noindex
X-PUBLISHED-TTL:PT1H
BEGIN:VTIMEZONE
TZID:Europe/Paris
BEGIN:DAYLIGHT
TZOFFSETFROM:+0100
TZOFFSETTO:+0200
TZNAME:CEST
DTSTART:20240331T010000
END:DAYLIGHT
BEGIN:STANDARD
TZOFFSETFROM:+0200
TZOFFSETTO:+0100
TZNAME:CET
DTSTART:20241027T010000
END:STANDARD
END:VTIMEZONE
BEGIN:VEVENT
DTSTART;TZID=Europe/Paris:20240413T160000
DTEND;TZID=Europe/Paris:20240413T200000
DTSTAMP:20260424T141849
CREATED:20240209T093350Z
LAST-MODIFIED:20240311T141047Z
UID:3598-1713024000-1713038400@autresversants.com
SUMMARY:Balade sur les chemins de la transhumance + rencontre avec les brebis
DESCRIPTION:Dans le cadre de la Fête de l’Agneau à Sisteron\, je vous propose de suivre d’anciens chemins de transhumance vers une petite ferme du massif des Monges\, où le pastoralisme demeure une activité centrale. Nous irons y rencontrer Margot\,  éleveuse faisant perdurer cette pratique : chaque printemps\, elle guide son troupeau à pied jusqu’en Ubaye. Elle nous parlera de son métier\, de la manière dont s’organise une transhumance et comment se vit cette grande marche. \n\nAu programme : randonnée facile sur les collines\, dans les marnes et en forêt pour se familiariser avec les paysages de la transhumance ; découverte du massif des Monges et de l’histoire du pastoralisme dans la région ; rencontre avec une éleveuse et ses agneaux dans sa ferme\, avant son départ vers les alpages. Les enfants pourront venir rencontrer les brebis et leurs agneaux quelques semaines après leur naissance\, tandis que nous échangerons avec l’éleveuse sur le quotidien de son métier\, en partageant un verre.  \nEncadrement : Randonnée en groupe (max 15 personnes)\, encadrée par un accompagnateur en montagne basé à Sisteron. Il vous fournira les éléments techniques et vous fera découvrir l’environnement local. L’itinéraire pourra être modifié en fonction des conditions météo ou de la condition physique des participant.e.s. \n\n\n\n\n\n\n\n\n\nMatériel indispensable :  1 sac à dos confortable (20-30L) pour vos affaires // idéalement\, des chaussures de montagne avec des crampons ou à défaut\, une paire de baskets // 1 tenue adaptée pour la marche (vêtements respirants et légers) // 1 gourde d’eau (1L/personne pour la sortie) // 1 casquette ou chapeau // 1 coupe-vent imperméable technique (type gore-tex) ou un k-way en fonction de la météo // votre traitement médical (si vous en avez). \nMatériel optionnel : votre téléphone ou appareil photo\, vos bâtons de randonnée (si vous avez l’habitude de marcher avec !) \n\n\n\n			\n			\n				\n				\n				\n				\n				\n				\n				\n				\n				\n				\n			\n				\n				\n				\n				\n				Tarifs :  20€ / adulte et 10€ / enfant (sous la responsabilité d’un adulte) \nLe prix inclut : L’encadrement par un accompagnateur en montagne\, un apéritif à partager. Il n’inclut pas : Votre transport A-R jusqu’au point de départ de la randonnée. Un covoiturage A-R sera organisé depuis Sisteron. \nNiveau de difficulté : Niveau 2/5. 1h45 de marche effective et environ 200m de dénivelé positif au cours de la sortie. Balade tous publics s’effectuant à un rythme tranquille en montée\, uniquement sur des sentiers ou des pistes bien marquées\, sans pente raide. Sortie adaptée aux familles avec enfants\, s’ils sont à l’aise dans la marche. \nRV au Plan d’eau des Marres\, au stand d’accueil de la Fête de l’Agneau (04200 Sisteron). Parking gratuit avec disque (zone bleue) devant la Mairie ou à la gare SNCF. Covoiturage entre les participant.e.s à la sortie organisé depuis le plan d’eau\, afin de minimiser le nombre de véhicules que nous emprunterons. \n			\n				Conditions générales de vente
URL:https://autresversants.com/event/balade-sur-les-chemins-de-la-transhumance-rencontre-avec-les-agneaux/
LOCATION:Chateaufort\, Châteaufort\, 04250
CATEGORIES:Balade ½ Journée,Monges
ATTACH;FMTTYPE=image/jpeg:https://autresversants.com/wp-content/uploads/2024/02/Troupeau-au-sommet-des-Monges.jpeg
ORGANIZER;CN="Autres Versants":MAILTO:simon@autresversants.com
END:VEVENT
BEGIN:VEVENT
DTSTART;TZID=Europe/Paris:20240425T090000
DTEND;TZID=Europe/Paris:20240425T123000
DTSTAMP:20260424T141849
CREATED:20240125T080014Z
LAST-MODIFIED:20250121T144546Z
UID:3776-1714035600-1714048200@autresversants.com
SUMMARY:Balade botanique dans les Gorges de la Méouge
DESCRIPTION:Rendez-vous au coeur des Gorges de la Méouge : nous partons du Pont Romain\, avant de remonter la rivière sur 1 km. Une randonnée au plus près de l’eau\, pour aller observer de plus près la flore de la ripisylve et des falaises calcaires environnantes. \n\n\n\n\n\n\n• Comprendre la vie d’une rivière en remontant son cours\, mieux connaître la flore des bords de rivière et notamment les espèces protégées (zone Natura 2000)• Identification des espèces présentes sur site et présentation des modes de classement des végétaux• Observation du rôle majeur de l’exposition (versants nord/sud) dans les gorges sur les espèces présentes : stratégies d’adaptation des végétaux au manque d’eau dès lors que l’on s’éloigne de la rivière. \nEncadrement : Randonnée en groupe (max 13 personnes)\, encadrée par un accompagnateur en montagne basé à Sisteron. Il vous fournira les éléments techniques et vous fera découvrir l’environnement local. L’itinéraire pourra être modifié en fonction des conditions météo ou de la condition physique des participant.e.s. \nMatériel indispensable :  1 sac à dos confortable (20-30L) pour vos affaires // des chaussures de montagne avec des crampons (pas de baskets lisses) // 1 tenue adaptée pour la marche (vêtements respirants et légers) // 1 gourde d’eau (1L minimum/pers pour la sortie) // 1 casquette ou chapeau\, lunettes de soleil et crème solaire // 1 coupe-vent imperméable technique (type gore-tex) ou un k-way // votre traitement médical (si vous en avez). \nMatériel optionnel : votre téléphone ou appareil photo\, jumelles d’observation\, bâtons de randonnée (si vous avez l’habitude de marcher avec !). \n\n\n\n			\n			\n				\n				\n				\n				\n				\n				\n				\n				\n				\n				\n			\n				\n				\n				\n				\n				Tarifs :  25€ / adulte et 12€ / enfant (sous la responsabilité d’un adulte) \nLe prix inclut : L’encadrement par un accompagnateur en montagne\, une collation / en-cas local à partager. Il n’inclut pas : Votre transport A-R jusqu’au point de départ de la randonnée. Un covoiturage sera organisé depuis l’Office de Tourisme à Sisteron. \nNiveau de difficulté : Niveau 2/5. 1h30 de marche effective et 150m de dénivelé positif au cours de la sortie. Randonnée facile\, tous publics\, s’effectuant uniquement sur des sentiers bien marqués sans pente raide. Quelques passages ravinés mais sécurisés nécessiteront votre vigilance. Les enfants sont bienvenus s’ils peuvent marcher seuls ; des activités spécifiques de découverte de la flore peuvent être prévues pour eux\, merci de le signaler lors de votre inscription. \nRV devant l’Office de Tourisme de Sisteron (1 place de la République\, 04200 Sisteron). Parking gratuit avec disque (zone bleue) sur place ou à la gare SNCF. Covoiturage entre les participant.e.s à la sortie jusqu’au point de départ de la randonnée. \n			\n				Conditions générales de vente
URL:https://autresversants.com/event/balade-botanique-gorges-meouge/
LOCATION:Val Buëch-Méouge\, Val Buëch-Méouge\, Provence-Alpes Côte d'Azur\, France
CATEGORIES:Balade ½ Journée,Méouge
ATTACH;FMTTYPE=image/jpeg:https://autresversants.com/wp-content/uploads/2024/02/Iris-des-garrigues-Gorges-de-la-Meouge.jpeg
ORGANIZER;CN="Autres Versants":MAILTO:simon@autresversants.com
END:VEVENT
END:VCALENDAR