BEGIN:VCALENDAR
VERSION:2.0
PRODID:-//autres versants - ECPv6.14.2//NONSGML v1.0//EN
CALSCALE:GREGORIAN
METHOD:PUBLISH
X-ORIGINAL-URL:https://autresversants.com
X-WR-CALDESC:Évènements pour autres versants
REFRESH-INTERVAL;VALUE=DURATION:PT1H
X-Robots-Tag:noindex
X-PUBLISHED-TTL:PT1H
BEGIN:VTIMEZONE
TZID:Europe/Paris
BEGIN:DAYLIGHT
TZOFFSETFROM:+0100
TZOFFSETTO:+0200
TZNAME:CEST
DTSTART:20230326T010000
END:DAYLIGHT
BEGIN:STANDARD
TZOFFSETFROM:+0200
TZOFFSETTO:+0100
TZNAME:CET
DTSTART:20231029T010000
END:STANDARD
END:VTIMEZONE
BEGIN:VEVENT
DTSTART;TZID=Europe/Paris:20231014T190000
DTEND;TZID=Europe/Paris:20231014T230000
DTSTAMP:20260424T230517
CREATED:20230930T081017Z
LAST-MODIFIED:20231005T075920Z
UID:2706-1697310000-1697324400@autresversants.com
SUMMARY:Randonnée nocturne avec le Géoparc de Haute-Provence
DESCRIPTION:Dans le cadre du « Jour de la Nuit »\, venez découvrir les montagnes aux alentours de Digne-les-Bains lors d’une randonnée pour admirer le ciel étoilé. Randonnée nocturne encadrée par un géologue de l’UGHP et un Accompagnateur en montagne géopartenaire.  \nQuand l’éclairage public diminue\, le ciel du Géoparc est encore plus envoutant. En poursuivant les efforts déjà engagés\, le Géoparc ambitionne de devenir une Réserve Internationale de Ciel Etoilé. Venez découvrir ce projet tout en cheminant à la lumière des étoiles. Par ailleurs\, de nombreuses animations sont organisées dans les communes du Géoparc. Sur inscription au 04 92 36 70 70. Plus d’informations sur les sites internet et la page facebook de l’UNESCO Géoparc de Haute-Provence. \n\n\n\n\n\n\n\n\n\nEncadrement : Randonnée en groupe (max 15 personnes)\, encadrée par un accompagnateur en montagne basé à Sisteron et un géologue de l’UGHP. Ils vous fourniront les éléments techniques et vous fera découvrir l’environnement local. L’itinéraire pourra être modifié en fonction des conditions météo ou de la condition physique des participant.e.s. \nMatériel indispensable :  1 sac à dos confortable (20-30L) pour vos affaires // idéalement\, des chaussures de montagne avec des crampons ou à défaut\, une paire de baskets // 1 tenue adaptée pour la marche (vêtements respirants et légers) // 1 gourde d’eau (1L minimum/personne pour la sortie) // 1 coupe-vent imperméable technique (type gore-tex) ou un k-way // un pull  // votre lampe frontale ou votre téléphone chargé avec torche // votre traitement médical (si vous en avez). \nMatériel optionnel : votre téléphone ou appareil photo\, bâtons de randonnée (si vous avez l’habitude de marcher avec !). \n\n\n\n			\n			\n				\n				\n				\n				\n				\n				\n				\n				\n				\n				Ce qui est inclut : L’encadrement par un accompagnateur en montagne\, une collation / apéritif à partager. \nCe qui n’est pas inclut : Votre transport A-R jusqu’au point de départ de la randonnée (Digne-les-Bains)\, les autres snacks/encas et l’eau. \nNiveau de difficulté : Niveau 2/5. 2h30 de marche effective et environ 200m de dénivelé positif au cours de la soirée. Randonnée tous publics s’effectuant à un rythme tranquille en montée\, uniquement sur des sentiers ou des pistes forestières bien marquées\, sans pente raide. Cette balade est tout à fait adaptée aux enfants\, à condition qu’ils sachent marcher en autonomie. Ils peuvent être inquiets à l’idée de marcher la nuit\, mais nous prendrons le temps pour que chacun.e se sente à l’aise. \nLieu et horaire de RV à venir. \n			\n				Conditions générales de vente
URL:https://autresversants.com/event/randonnee-nocturne-avec-le-geoparc-de-haute-provence/
LOCATION:Digne-les-Bains\, Digne-les-Bains\, France
ATTACH;FMTTYPE=image/jpeg:https://autresversants.com/wp-content/uploads/2023/02/Crepuscule-foret.jpeg
ORGANIZER;CN="Autres Versants":MAILTO:simon@autresversants.com
END:VEVENT
BEGIN:VEVENT
DTSTART;TZID=Europe/Paris:20231021T153000
DTEND;TZID=Europe/Paris:20231021T210000
DTSTAMP:20260424T230517
CREATED:20230222T150022Z
LAST-MODIFIED:20231002T095659Z
UID:1129-1697902200-1697922000@autresversants.com
SUMMARY:Forêts d’automne et coucher de soleil sur les Monges
DESCRIPTION:Dès le début du mois d’octobre\, les forêts roussissent et se parent de couleurs éclatantes en altitude : partons nous balader dans ces ambiances magnifiques sous la douce lumière de la fin d’après-midi. Nous patienterons ensuite jusqu’au coucher de soleil en partageant un apéritif au sommet\, avant de rentrer à la lueur de nos lampes frontales quand les étoiles s’allument. \n\n\n\n\n\n\n\n\n\n\n\n\n\n\n\n\n\n\n  \n\n\n\n\n\n\n\n\n\nAu programme : Observation de traces et indices de présence d’animaux dans la forêt domaniale du Sasse ; présentation de la faune de moyenne montagne et de l’impact du pastoralisme sur les milieux naturels ; montée sur le Trainon pour son point de vue sur les Monges / Alpes du Sud ; coucher de soleil sur le Gourras : apéritif offert devant les lumières orangées du crépuscule ; fin de randonnée nocturne. \nEncadrement : Randonnée en groupe (max 13 personnes)\, encadrée par un accompagnateur en montagne basé à Sisteron. Il vous fournira les éléments techniques et vous fera découvrir l’environnement local. L’itinéraire pourra être modifié en fonction des conditions météo ou de la condition physique des participant.e.s. \nMatériel indispensable :  1 sac à dos confortable (20-30L) pour vos affaires // des chaussures de montagne avec des crampons (pas de baskets lisses) // 1 tenue adaptée pour la marche (vêtements respirants et légers) // 1 gourde d’eau (1L minimum/personne pour la sortie) // 1 casquette ou chapeau\, lunettes de soleil et crème solaire // 1 coupe-vent imperméable technique (type gore-tex) ou un k-way // 1 pull supplémentaire pour le soir // Lampe frontale // votre traitement médical (si vous en avez). \nMatériel optionnel : votre téléphone ou appareil photo\, jumelles d’observation\, bâtons de randonnée (si vous avez l’habitude de marcher avec !) \n\n\n\n			\n			\n				\n				\n				\n				\n				\n				\n				\n				\n				\n				\n			\n				\n				\n				\n				\n				Tarifs :  20€ / adulte et 10€ / enfant (sous la responsabilité d’un adulte) \nLe prix inclut : L’encadrement par un accompagnateur en montagne\, une collation / en-cas local à partager. Il n’inclut pas : Votre transport A-R jusqu’au point de départ de la randonnée. Un covoiturage A-R sera organisé depuis l’Office de Tourisme à Sisteron. \nNiveau de difficulté : Niveau 3/5. 8 km\, 3h15 de marche effective et 450m de dénivelé positif au cours de la sortie. Randonnée s’adressant aux marcheurs occasionnels et réguliers s’effectuant uniquement sur des sentiers bien marqués\, sans pente raide. Les enfants sont bienvenus (attention : retour en nocturne !) ; des activités spécifiques peuvent être prévues pour eux\, merci de le signaler lors de votre inscription. \nRV à 15h30 devant l’Office de Tourisme de Sisteron (1 place de la République\, 04200 Sisteron). Retour vers 21h.  \n			\n				Conditions générales de vente
URL:https://autresversants.com/event/forets-dautomne-et-coucher-de-soleil-sur-les-monges/
LOCATION:Saint-Geniez\, Saint-Geniez\, Provence Alpes Côte d'Azur\, France
ATTACH;FMTTYPE=image/jpeg:https://autresversants.com/wp-content/uploads/2023/02/Crete-et-foret-scaled.jpeg
ORGANIZER;CN="Autres Versants":MAILTO:simon@autresversants.com
END:VEVENT
BEGIN:VEVENT
DTSTART;TZID=Europe/Paris:20231026T140000
DTEND;TZID=Europe/Paris:20231026T173000
DTSTAMP:20260424T230517
CREATED:20230929T172415Z
LAST-MODIFIED:20230930T132425Z
UID:2681-1698328800-1698341400@autresversants.com
SUMMARY:Randonnée dessinée : initiation à la linogravure en pleine nature
DESCRIPTION:Venez en apprendre plus sur la forêt\, ornée de toutes les belles couleurs de l’automne autour de Sisteron. Une balade suivie d’un moment de création artistique en pleine nature : chacun.e pourra repartir avec sa propre création ! Tout le matériel est fourni.  \nAu cours de cette balade dans les forêts mixtes autour de Sisteron\, vous partirez à la découverte des principales espèces d’arbres et d’arbustes du secteur. Adultes et enfants seront invités à collecter au sol des matériaux naturels (feuilles mortes\, brindilles\, branches\, fruits…) utiles pour la suite. \nEn fin de balade\, nous nous installerons au sommet du Molard\, au coeur de la forêt : feutres\, colle\, encre et tampons seront mis à la disposition de tous. Vous serez invités à créer une petite œuvre d’art autour de la forêt d’automne\, en revisitant les herbiers naturalistes. Adultes et enfants pourront réaliser une œuvre mixte\, combinant différentes techniques (au choix) : dessin\, collages ou linogravure (encrage de supports) \nMatériel indispensable :  un petit 1 sac à dos pour vos affaires (gourde avec au moins 1L d’eau\, k-way et pull pour ne pas avoir froid lorsque nous nous arrêterons pour dessiner) // une paire de baskets // 1 casquette ou chapeau\, lunettes de soleil // votre traitement médical (si vous ou votre enfant en a) // votre téléphone. \n\n\n\n			\n			\n				\n				\n				\n				\n				\n				\n				\n				\n				\n				\n			\n				\n				\n				\n				\n				Tarifs :  25€ / adulte et 12€ / enfant \nLe prix inclut : L’encadrement par un accompagnateur en montagne\, le matériel artistique (supports\, feutres\, colle\, nécessaire à linogravure…) \nLe prix n’inclut pas : Votre transport jusqu’au lieu de RV (Office de Tourisme de Sisteron)\, les encas et l’eau pour vous et votre enfant. \nNiveau de difficulté : Niveau 2/5. 2h de marche effective et environ 250m de dénivelé positif. Balade/atelier artistique tous publics (enfants\, ados\, adultes\, séniors…)\, s’effectuant uniquement sur des sentiers bien marqués sans pente raide. Néanmoins\, tous les chemins ne sont pas accessibles aux poussettes. \nRV à 9h devant l’Office de Tourisme de Sisteron (1 place de la République\, 04200 Sisteron). Parking gratuit avec disque (zone bleue) sur place ou à la gare SNCF. Départ à pied depuis l’Office de Tourisme. \n			\n				Conditions générales de vente
URL:https://autresversants.com/event/randonnee-dessinee-forets-dautomne/
LOCATION:Sisteron\, Sisteron\, Provence-Alpes-Côte d'Azur\, France
CATEGORIES:Atelier artistique
ATTACH;FMTTYPE=image/jpeg:https://autresversants.com/wp-content/uploads/2023/09/Sortie-5-Foret-dautomne-Monges.jpeg
ORGANIZER;CN="Autres Versants":MAILTO:simon@autresversants.com
END:VEVENT
END:VCALENDAR