BEGIN:VCALENDAR
VERSION:2.0
PRODID:-//autres versants - ECPv6.14.2//NONSGML v1.0//EN
CALSCALE:GREGORIAN
METHOD:PUBLISH
X-WR-CALNAME:autres versants
X-ORIGINAL-URL:https://autresversants.com
X-WR-CALDESC:Évènements pour autres versants
REFRESH-INTERVAL;VALUE=DURATION:PT1H
X-Robots-Tag:noindex
X-PUBLISHED-TTL:PT1H
BEGIN:VTIMEZONE
TZID:Europe/Paris
BEGIN:DAYLIGHT
TZOFFSETFROM:+0100
TZOFFSETTO:+0200
TZNAME:CEST
DTSTART:20230326T010000
END:DAYLIGHT
BEGIN:STANDARD
TZOFFSETFROM:+0200
TZOFFSETTO:+0100
TZNAME:CET
DTSTART:20231029T010000
END:STANDARD
END:VTIMEZONE
BEGIN:VEVENT
DTSTART;TZID=Europe/Paris:20230803T163000
DTEND;TZID=Europe/Paris:20230803T193000
DTSTAMP:20260425T020026
CREATED:20230513T093003Z
LAST-MODIFIED:20230728T135627Z
UID:2432-1691080200-1691091000@autresversants.com
SUMMARY:Escape Game : mission Orientation autour de Salignac
DESCRIPTION:Pour gagner\, il va falloir savoir bien s’orienter ! Au cours de cette randonnée « à étapes »\, vous découvrirez de nouvelles techniques via des jeux d’orientation. Il vous faudra résoudre plusieurs défis en binôme parent/enfant (pour les + petits) ou en autonome (pour les + grands). Ce grand jeu en nature mêle logique et rapidité sur le principe de l’escape game : la boussole et vos talents de lecture de carte seront vos meilleurs atouts pour avancer !  \nAu programme : randonnée « à étapes » à la découverte des environs du camping ; jeux et petites énigmes à résoudre\, en duo parent/enfant ou en solo pour les plus grands ; exercices d’orientation adaptés aux enfants en terrains variés (marnes noires\, champs et rivière) \n\n\n\n\n\n\n\n\n\nEncadrement : Animation nature en groupe (max 15 personnes)\, encadrée par un accompagnateur en montagne basé à Sisteron. Il vous fournira les éléments techniques et vous fera découvrir l’environnement local. L’itinéraire pourra être modifié en fonction des conditions météo ou de la condition physique des participant.e.s. \nMatériel indispensable :  1 sac à dos confortable (20-30L) pour vos affaires // idéalement\, des chaussures de montagne avec des crampons ou à défaut\, une paire de baskets // 1 tenue adaptée pour la marche (vêtements respirants et légers) // 1 gourde d’eau (1L minimum/personne pour la sortie) // 1 casquette ou chapeau\, lunettes de soleil et crème solaire // 1 coupe-vent imperméable technique (type gore-tex) ou un k-way // votre traitement médical (si vous en avez) ; votre téléphone ou appareil photo (pour rester en contact à tout moment). \n\n\n\n			\n			\n				\n				\n				\n				\n				\n				\n				\n				\n				\n				\n			\n				\n				\n				\n				\n				Tarifs :  25€ / adulte et 12\,50€ / enfant (sous la responsabilité d’un adulte) \nLe prix inclut : L’encadrement par un accompagnateur en montagne\, une collation à partager\, le matériel nécessaire à l’activité (carnet\, boussole\, supports…). Il n’inclut pas : les autres snacks/encas et l’eau. \nNiveau de difficulté : Niveau 2/5. 1h30 de marche effective et au maximum 200m de dénivelé positif au cours de la matinée. Animation tous publics s’effectuant à un rythme tranquille en montée\, uniquement sur des sentiers ou des pistes bien marquées\, sans pente raide. Des moments en semi-autonomie sont prévus au cours de la sortie ; les enfants doivent toujours être sous la responsabilité d’un parent ou rester avec l’accompagnateur. \nRV à 8h30 devant l’accueil du Camping du Jas du Moine à Salignac. Départ à pied depuis le Camping. Retour vers 11h30. \nAttention ! En cas de fermeture de massif pour des raisons de risque d’incendie\, l’activité se passera dans un autre secteur\, nécessitant de prendre sa voiture. Un covoiturage (non compris dans le prix) sera alors organisé depuis le camping du Jas du Moine. Vous serez prévenus la veille au soir. \n			\n				Conditions générales de vente
URL:https://autresversants.com/event/escape-game-mission-orientation-autour-de-salignac/
LOCATION:Salignac\, Salignac\, 04290\, France
ATTACH;FMTTYPE=image/jpeg:https://autresversants.com/wp-content/uploads/2023/05/Course-dorientation.jpg
ORGANIZER;CN="Autres Versants":MAILTO:simon@autresversants.com
END:VEVENT
BEGIN:VEVENT
DTSTART;TZID=Europe/Paris:20230817T083000
DTEND;TZID=Europe/Paris:20230817T123000
DTSTAMP:20260425T020026
CREATED:20230524T134212Z
LAST-MODIFIED:20240223T205227Z
UID:2525-1692261000-1692275400@autresversants.com
SUMMARY:Rand-eau dans les Gorges du Vançon
DESCRIPTION:Au bord de la rivière du Vançon\, je vous propose une randonnée familiale « à la fraîche » le matin\, avant les fortes chaleurs estivales. Nous découvrirons la vie aquatique des rivières en tresse et torrents des Alpes du Sud. À cette heure-ci\, nous pourrons même espérer rencontrer celles et ceux qui les peuplent : poissons\, amphibiens\, reptiles et oiseaux… \nAu programme : l’histoire mystérieuse du Pont de la Reine Jeanne\, où nous commencerons la rando ; descente du Vançon au début des gorges et traversées de la rivière à gué ; découverte de la faune et de la flore des bords de rivière. \n\n\n\n\n\n\n\n\n\nEncadrement : Randonnée en groupe (max 13 personnes)\, encadrée par un accompagnateur en montagne basé à Sisteron. Il vous fournira les éléments techniques et vous fera découvrir l’environnement local. L’itinéraire pourra être modifié en fonction des conditions météo ou de la condition physique des participant.e.s. \nMatériel indispensable :  1 sac à dos confortable (20-30L) pour vos affaires // idéalement\, des chaussures de montagne avec des crampons ou à défaut\, une paire de baskets // 1 tenue adaptée pour la marche (vêtements respirants et légers) // 1 gourde d’eau (1L minimum/personne pour la sortie) // 1 casquette ou chapeau\, lunettes de soleil et crème solaire // 1 coupe-vent imperméable technique (type gore-tex) ou un k-way // votre traitement médical (si vous en avez). \nMatériel optionnel : votre téléphone ou appareil photo\, jumelles d’observation\, bâtons de randonnée (si vous avez l’habitude de marcher avec !)\, une serviette microfibre pour se sécher les pieds après les traversées de rivière. \n\n\n\n			\n			\n				\n				\n				\n				\n				\n				\n				\n				\n				\n				\n			\n				\n				\n				\n				\n				Tarifs :  20€ / adulte et 10€ / enfant (sous la responsabilité d’un adulte) \nLe prix inclut : L’encadrement par un accompagnateur en montagne\, une collation à partager en cours de randonnée. Il n’inclut pas : Votre transport A-R jusqu’au point de départ de la randonnée\, les autres encas/snacks et l’eau. Un covoiturage A-R sera organisé depuis l’Office de Tourisme à Sisteron. \nNiveau de difficulté : Niveau 2/5. 2h15 de marche effective et faible dénivelé au cours de la matinée. Randonnée tous publics s’effectuant à un rythme tranquille\, essentiellement à plat. Passage sur des sentiers ou des pistes bien marquées\, sans pente raide. Les zones de galets en bord de rivière nécessiteront davantage de vigilance. Randonnée adaptée aux familles avec enfants. \nRV à 8h30 devant l’Office de Tourisme de Sisteron. Retour vers 12h30. \n			\n				Conditions générales de vente
URL:https://autresversants.com/event/rand-eau-dans-les-gorges-du-vancon-2/
LOCATION:Entrepierres\, Entrepierres\, Provence-Alpes-Côte d'Azur\, France
CATEGORIES:Vançon
ATTACH;FMTTYPE=image/jpeg:https://autresversants.com/wp-content/uploads/2023/05/Traversee-riviere-Vancon.jpeg
END:VEVENT
END:VCALENDAR