BEGIN:VCALENDAR
VERSION:2.0
PRODID:-//autres versants - ECPv6.14.2//NONSGML v1.0//EN
CALSCALE:GREGORIAN
METHOD:PUBLISH
X-ORIGINAL-URL:https://autresversants.com
X-WR-CALDESC:Évènements pour autres versants
REFRESH-INTERVAL;VALUE=DURATION:PT1H
X-Robots-Tag:noindex
X-PUBLISHED-TTL:PT1H
BEGIN:VTIMEZONE
TZID:Europe/Paris
BEGIN:DAYLIGHT
TZOFFSETFROM:+0100
TZOFFSETTO:+0200
TZNAME:CEST
DTSTART:20230326T010000
END:DAYLIGHT
BEGIN:STANDARD
TZOFFSETFROM:+0200
TZOFFSETTO:+0100
TZNAME:CET
DTSTART:20231029T010000
END:STANDARD
END:VTIMEZONE
BEGIN:VEVENT
DTSTART;TZID=Europe/Paris:20230712T083000
DTEND;TZID=Europe/Paris:20230712T123000
DTSTAMP:20260425T033032
CREATED:20230513T081338Z
LAST-MODIFIED:20230528T053905Z
UID:2397-1689150600-1689165000@autresversants.com
SUMMARY:Découverte / dégustation des plantes aromatiques en montagne
DESCRIPTION:Au cœur du massif des Monges\, sous les imposantes crêtes de la montagne de Jouère\, cette randonnée pleine d’odeurs vous emmènera sur les traces des plantes aromatiques de Haute-Provence. Après une petite grimpette hors des sentiers\, au milieu des lavandes sauvages et des alpages\, la vue s’ouvre sur tout le massif. Nous aurons ensuite rendez-vous au jardin d’Anne Brogi. Elle y cultive des plantes aromatiques et médicinales\, qu’elle transforme ensuite en pestos\, confitures et tisanes 100% bio. \nAu programme : randonnée jusqu’au pied du Trainon (1450m d’altitude)\, au milieu des lavandes sauvages et au son des troupeaux\, pour voir la vue s’ouvrir sur tout le massif des Monges ; découverte des spécificités du terroir\, entre influences méditerranéennes et Alpines ; visite du jardin d’Anne Brogi (www.unbrundefolie.net)\, où elle évoquera ses techniques de transformation des plantes aromatiques et médicinales (en pesto\, tisanes\, confiture…). Dégustation de certains de ses produits. \n\n\n\n\n\n\n\n\n\nEncadrement : Randonnée en groupe (max 13 personnes)\, encadrée par un accompagnateur en montagne basé à Sisteron. Il vous fournira les éléments techniques et vous fera découvrir l’environnement local. L’itinéraire pourra être modifié en fonction des conditions météo ou de la condition physique des participant.e.s. \nMatériel indispensable :  1 sac à dos confortable (20-30L) pour vos affaires // idéalement\, des chaussures de montagne avec des crampons ou à défaut\, une paire de baskets // 1 tenue adaptée pour la marche (vêtements respirants et légers) // 1 gourde d’eau (1L minimum/personne pour la sortie) // 1 casquette ou chapeau\, lunettes de soleil et crème solaire // 1 coupe-vent imperméable technique (type gore-tex) ou un k-way // votre traitement médical (si vous en avez). \nMatériel optionnel : votre téléphone ou appareil photo\, jumelles d’observation\, bâtons de randonnée (si vous avez l’habitude de marcher avec !)\, un peu de liquide ou votre chéquier si vous souhaitez acheter des produits à Anne. \n\n\n\n			\n			\n				\n				\n				\n				\n				\n				\n				\n				\n				\n				\n			\n				\n				\n				\n				\n				Tarifs :  25€ / adulte et 12\,50€ / enfant (sous la responsabilité d’un adulte) \nLe prix inclut : L’encadrement par un accompagnateur en montagne\, la visite du jardin d’Anne et la dégustation de certains produits\, une collation à partager. Il n’inclut pas : Votre transport A-R jusqu’au point de départ de la randonnée. Un covoiturage A-R sera organisé depuis le camping du Moulin de Thoard. \nNiveau de difficulté : Niveau 3/5. 220m de dénivelé positif au cours de la matinée. Randonnée presque intégralement réalisée hors sentier (sans pente raide)\, destinée à des marcheurs occasionnels ou réguliers. Randonnée adaptée aux familles avec enfants de 10 ans et plus. \nRV à 8h30 à l’accueil du camping du Moulin de Thoard. Possibilité de rejoindre le groupe à 9h au départ de la randonnée ici :Point GPS. Retour vers 12h30. \n			\n				Conditions générales de vente
URL:https://autresversants.com/event/decouverte-des-plantes-aromatiques-en-montagne/
LOCATION:Authon\, Authon\, 04200\, France
ATTACH;FMTTYPE=image/jpeg:https://autresversants.com/wp-content/uploads/2023/05/IMG_7816.jpeg
ORGANIZER;CN="Autres Versants":MAILTO:simon@autresversants.com
END:VEVENT
BEGIN:VEVENT
DTSTART;TZID=Europe/Paris:20230724T083000
DTEND;TZID=Europe/Paris:20230724T120000
DTSTAMP:20260425T033032
CREATED:20230513T095238Z
LAST-MODIFIED:20230525T145626Z
UID:2446-1690187400-1690200000@autresversants.com
SUMMARY:Au pays de l’agneau de Sisteron (rando-visite de ferme)
DESCRIPTION:Avant les premières chaleurs de la journée\, nous partons pour une courte randonnée sur les terres de l’AOP « agneau de Sisteron ». À plus de 1000m d’altitude\, nous cheminerons parmi d’anciens hameaux de bergers\, avant de grimper en forêt\, sur le terrain des chamois\, vers les rochers St-Michel\, prolongement naturel de la montagne de la Baume\, offrant de belles vues en surplomb sur la vallée et les gorges du Vançon.  \nLe retour se fera au son des cloches des élevages du secteur. Notre balade s’achèvera chez une famille produisant de l’agneau\, du porc noir et des chèvres boers (bio et plein air) : la ferme Allard nous ouvrira ses portes le temps d’une visite/dégustation. \nAu programme : montée aux rochers Saint-Michel (vue panoramique sur la vallée et les gorges du Vançon) ; l’histoire du pastoralisme dans le massif (aménagements\, rôle dans le paysage\, transhumances et impacts sur le milieu naturel) ; l’agneau de Sisteron\, présentation d’une « indication géographique protégée »; visite de la ferme de La Colle (Domaine Allard : rencontre avec les éleveurs\, dégustation de produits de la ferme et possibilité d’achat en direct producteur) \n\n\n\n\n\n\n\n\n\nEncadrement : Randonnée en groupe (max 13 personnes)\, encadrée par un accompagnateur en montagne basé à Sisteron. Il vous fournira les éléments techniques et vous fera découvrir l’environnement local. L’itinéraire pourra être modifié en fonction des conditions météo ou de la condition physique des participant.e.s. \nMatériel indispensable :  1 sac à dos confortable (20-30L) pour vos affaires // idéalement\, des chaussures de montagne avec des crampons ou à défaut\, une paire de baskets // 1 tenue adaptée pour la marche (vêtements respirants et légers) // 1 gourde d’eau (1L minimum/personne pour la sortie) // 1 casquette ou chapeau\, lunettes de soleil et crème solaire // 1 coupe-vent imperméable technique (type gore-tex) ou un k-way // votre traitement médical (si vous en avez). \nMatériel optionnel : votre téléphone ou appareil photo\, jumelles d’observation\, bâtons de randonnée (si vous avez l’habitude de marcher avec !)\, un peu de liquide ou votre chéquier si vous souhaitez acheter des produits à la ferme. \n\n\n\n			\n			\n				\n				\n				\n				\n				\n				\n				\n				\n				\n				\n			\n				\n				\n				\n				\n				Tarifs :  20€ / adulte et 10€ / enfant (sous la responsabilité d’un adulte) \nLe prix inclut : L’encadrement par un accompagnateur en montagne\, la visite de la ferme ALLARD et la dégustation de produits issus de leurs élevages (agneau\, porc). Il n’inclut pas : Votre transport A-R jusqu’au point de départ de la randonnée\, les autres snacks/encas et l’eau. Un covoiturage A-R sera organisé depuis l’Office de Tourisme de Sisteron. \nNiveau de difficulté : Niveau 2/5. 1h45 à 2h de marche effective et 170m de dénivelé positif au cours de la matinée. Balade tous publics s’effectuant à un rythme tranquille\, s’effectuant uniquement sur des sentiers et des pistes forestières bien marquées sans pente raide. Une courte descente\, plus étroite (5’)\, nécessitera davantage de vigilance. Les enfants sont bienvenus ; des activités spécifiques peuvent être prévues pour eux\, merci de le signaler lors de votre inscription. \nRV à 8h30 à l’Office de Tourisme de Sisteron (1 place de la République). Covoiturage collectif organisé depuis l’Office. Retour vers 12h à Sisteron. \n			\n				Conditions générales de vente
URL:https://autresversants.com/event/au-pays-de-lagneau-de-sisteron-rando-visite-de-ferme/
LOCATION:Entrepierres\, Entrepierres\, Provence-Alpes-Côte d'Azur\, France
ATTACH;FMTTYPE=image/jpeg:https://autresversants.com/wp-content/uploads/2023/05/Rochers-St-Michel.jpeg
ORGANIZER;CN="Autres Versants":MAILTO:simon@autresversants.com
END:VEVENT
BEGIN:VEVENT
DTSTART;TZID=Europe/Paris:20230727T083000
DTEND;TZID=Europe/Paris:20230727T120000
DTSTAMP:20260425T033032
CREATED:20230513T101835Z
LAST-MODIFIED:20230525T150006Z
UID:2460-1690446600-1690459200@autresversants.com
SUMMARY:Rand-eau dans les Gorges du Vançon
DESCRIPTION:Au bord de la rivière du Vançon\, je vous propose une randonnée familiale « à la fraîche » le matin\, avant les fortes chaleurs estivales. Nous découvrirons la vie aquatique des rivières en tresse et torrents des Alpes du Sud. À cette heure-ci\, nous pourrons même espérer rencontrer celles et ceux qui les peuplent : poissons\, amphibiens\, reptiles et oiseaux… \nAu programme : l’histoire mystérieuse du Pont de la Reine Jeanne\, où nous commencerons la rando ; descente du Vançon au début des gorges et traversées de la rivière à gué ; découverte de la faune et de la flore des bords de rivière. \n\n\n\n\n\n\n\n\n\nEncadrement : Randonnée en groupe (max 13 personnes)\, encadrée par un accompagnateur en montagne basé à Sisteron. Il vous fournira les éléments techniques et vous fera découvrir l’environnement local. L’itinéraire pourra être modifié en fonction des conditions météo ou de la condition physique des participant.e.s. \nMatériel indispensable :  1 sac à dos confortable (20-30L) pour vos affaires // idéalement\, des chaussures de montagne avec des crampons ou à défaut\, une paire de baskets // 1 tenue adaptée pour la marche (vêtements respirants et légers) // 1 gourde d’eau (1L minimum/personne pour la sortie) // 1 casquette ou chapeau\, lunettes de soleil et crème solaire // 1 coupe-vent imperméable technique (type gore-tex) ou un k-way // votre traitement médical (si vous en avez). \nMatériel optionnel : votre téléphone ou appareil photo\, jumelles d’observation\, bâtons de randonnée (si vous avez l’habitude de marcher avec !)\, une serviette microfibre pour se sécher les pieds après les traversées de rivière. \n\n\n\n			\n			\n				\n				\n				\n				\n				\n				\n				\n				\n				\n				\n			\n				\n				\n				\n				\n				Tarifs :  25€ / adulte et 12\,50€ / enfant (sous la responsabilité d’un adulte) \nLe prix inclut : L’encadrement par un accompagnateur en montagne\, une collation à partager en cours de randonnée. Il n’inclut pas : Votre transport A-R jusqu’au point de départ de la randonnée\, les autres encas/snacks et l’eau. Un covoiturage A-R sera organisé depuis le Camping du Jas du Moine à Salignac. \nNiveau de difficulté : Niveau 2/5. 2h15 de marche effective et faible dénivelé au cours de la matinée. Randonnée tous publics s’effectuant à un rythme tranquille\, essentiellement à plat. Passage sur des sentiers ou des pistes bien marquées\, sans pente raide. Les zones de galets en bord de rivière nécessiteront davantage de vigilance. Randonnée adaptée aux familles avec enfants. \nRV à 8h30 devant l’accueil du Camping du Jas du Moine à Salignac. Retour vers 12h. \n			\n				Conditions générales de vente
URL:https://autresversants.com/event/rand-eau-dans-les-gorges-du-vancon/
LOCATION:Entrepierres\, Entrepierres\, Provence-Alpes-Côte d'Azur\, France
ATTACH;FMTTYPE=image/jpeg:https://autresversants.com/wp-content/uploads/2023/05/Traversee-riviere-Vancon.jpeg
ORGANIZER;CN="Autres Versants":MAILTO:simon@autresversants.com
END:VEVENT
END:VCALENDAR