BEGIN:VCALENDAR
VERSION:2.0
PRODID:-//autres versants - ECPv6.14.2//NONSGML v1.0//EN
CALSCALE:GREGORIAN
METHOD:PUBLISH
X-WR-CALNAME:autres versants
X-ORIGINAL-URL:https://autresversants.com
X-WR-CALDESC:Évènements pour autres versants
REFRESH-INTERVAL;VALUE=DURATION:PT1H
X-Robots-Tag:noindex
X-PUBLISHED-TTL:PT1H
BEGIN:VTIMEZONE
TZID:Europe/Paris
BEGIN:DAYLIGHT
TZOFFSETFROM:+0100
TZOFFSETTO:+0200
TZNAME:CEST
DTSTART:20230326T010000
END:DAYLIGHT
BEGIN:STANDARD
TZOFFSETFROM:+0200
TZOFFSETTO:+0100
TZNAME:CET
DTSTART:20231029T010000
END:STANDARD
END:VTIMEZONE
BEGIN:VEVENT
DTSTART;TZID=Europe/Paris:20230603T190000
DTEND;TZID=Europe/Paris:20230603T223000
DTSTAMP:20260425T045329
CREATED:20230513T103936Z
LAST-MODIFIED:20230728T135537Z
UID:2474-1685818800-1685831400@autresversants.com
SUMMARY:Randonnée au crépuscule autour des animaux de la forêt
DESCRIPTION:Marcher la nuit en forêt\, c’est une expérience qui peut faire peur\, mais il faut la vivre ! Faire silence pour écouter les animaux de la nuit\, habituer ses yeux à l’obscurité\, comprendre comment la faune et la flore s’adaptent autour de petites histoires… Une balade familiale\, où nous sortirons au coucher du soleil et rentrerons une fois la nuit tombée. \nAu programme : l’histoire mystérieuse du Pont de la Reine Jeanne (point de départ de notre marche) ; découverte de la faune nocturne en forêt autour de petites histoires ; traversée à gué de la rivière au retour\, sous les dernières lumières du jour ; retour à la frontale jusqu’au point de départ. \n\n\n\n\n\n\n\n\n\nEncadrement : Randonnée en groupe (max 13 personnes)\, encadrée par un accompagnateur en montagne basé à Sisteron. Il vous fournira les éléments techniques et vous fera découvrir l’environnement local. L’itinéraire pourra être modifié en fonction des conditions météo ou de la condition physique des participant.e.s. \nMatériel indispensable :  1 sac à dos confortable (20-30L) pour vos affaires // idéalement\, des chaussures de montagne avec des crampons ou à défaut\, une paire de baskets // 1 tenue adaptée pour la marche (vêtements respirants et légers) // 1 gourde d’eau (1L minimum/personne pour la sortie) // 1 casquette ou chapeau\, lunettes de soleil et crème solaire // 1 coupe-vent imperméable technique (type gore-tex) ou un k-way // 1 pull supplémentaire pour le soir // Une lampe frontale ou un téléphone chargé avec torche // votre traitement médical (si vous en avez). \nMatériel optionnel : votre téléphone ou appareil photo\, jumelles d’observation\, bâtons de randonnée (si vous avez l’habitude de marcher avec !) \n\n\n\n			\n			\n				\n				\n				\n				\n				\n				\n				\n				\n				\n				\n			\n				\n				\n				\n				\n				Tarifs :  25€ / adulte et 12\,50€ / enfant (sous la responsabilité d’un adulte) \nLe prix inclut : L’encadrement par un accompagnateur en montagne\, une collation à partager en cours de randonnée. Il n’inclut pas : votre transport A-R jusqu’au point de départ de la randonnée. Un covoiturage sera organisé depuis le Camping du Jas du Moine à Salignac. \nNiveau de difficulté : Niveau 2/5. 2h30 de marche effective et 200m de dénivelé positif au cours de la soirée. Balade tous publics s’effectuant à un rythme tranquille\, s’effectuant uniquement sur des sentiers forestiers bien marqués sans pente raide. Un passage à gué pour franchir la rivière nécessitera de retirer les chaussures. \nRV à 19h30 devant l’accueil du Camping du Jas du Moine à Salignac. Retour vers 22h30. \n			\n				Conditions générales de vente
URL:https://autresversants.com/event/randonnee-au-crepuscule-autour-des-animaux-de-la-foret/
LOCATION:Entrepierres\, Entrepierres\, Provence-Alpes-Côte d'Azur\, France
ATTACH;FMTTYPE=image/jpeg:https://autresversants.com/wp-content/uploads/2023/02/Crepuscule-foret.jpeg
ORGANIZER;CN="Autres Versants":MAILTO:simon@autresversants.com
END:VEVENT
END:VCALENDAR