BEGIN:VCALENDAR
VERSION:2.0
PRODID:-//autres versants - ECPv6.14.2//NONSGML v1.0//EN
CALSCALE:GREGORIAN
METHOD:PUBLISH
X-WR-CALNAME:autres versants
X-ORIGINAL-URL:https://autresversants.com
X-WR-CALDESC:Évènements pour autres versants
REFRESH-INTERVAL;VALUE=DURATION:PT1H
X-Robots-Tag:noindex
X-PUBLISHED-TTL:PT1H
BEGIN:VTIMEZONE
TZID:Europe/Paris
BEGIN:DAYLIGHT
TZOFFSETFROM:+0100
TZOFFSETTO:+0200
TZNAME:CEST
DTSTART:20260329T010000
END:DAYLIGHT
BEGIN:STANDARD
TZOFFSETFROM:+0200
TZOFFSETTO:+0100
TZNAME:CET
DTSTART:20261025T010000
END:STANDARD
END:VTIMEZONE
BEGIN:VEVENT
DTSTART;TZID=Europe/Paris:20260726T190000
DTEND;TZID=Europe/Paris:20260726T230000
DTSTAMP:20260421T135742
CREATED:20260418T210300Z
LAST-MODIFIED:20260418T211359Z
UID:5189-1785092400-1785106800@autresversants.com
SUMMARY:Rand-eau dans les Gorges du Vançon
DESCRIPTION:Balade un soir d’été à Sourribes : après deux traversées de rivière à gué\, nous grimpons jusqu’à un point de vue magnifique sur les gorges du Vançon\, en haut des falaises\, face aux vautours. Au retour\, nous admirerons à la longue-vue les guêpiers d’Europe\, splendides oiseaux multicolores faisant des allers-retours pour chasser au dessus de la rivière. Apéritif partagé en surplomb du Vançon. \n\n\n\n\n\n\nAu programme : • Observation du Guêpier d’Europe\, au nid et en vol au-dessus du Vançon\, à la longue-vue • Deux traversées de rivière pour se rafraîchir • Montée vers un magnifique belvédère sur les gorges du Vançon • Descente face au soleil couchant sur la vallée. \nEncadrement : Randonnée en groupe (max 10 personnes)\, encadrée par un accompagnateur en montagne basé à Sisteron. Il vous fournira les éléments techniques et vous fera découvrir l’environnement local. L’itinéraire pourra être modifié en fonction des conditions météo ou de la condition physique des participant.e.s. \nMatériel indispensable :  1 sac à dos confortable (20-30L) pour vos affaires // une paire de bonnes chaussures // 1 tenue adaptée pour la marche (vêtements respirants et légers) // 1 gourde d’eau (1L minimum/pers pour la sortie) // 1 casquette ou chapeau\, lunettes de soleil et crème solaire // 1 coupe-vent imperméable technique (type gore-tex) ou un k-way // une petite serviette type micro-fibre pour se sécher les pieds après les traversées de rivière. \nMatériel optionnel : votre téléphone ou appareil photo\, bâtons de marche (si vous avez l’habitude de marcher avec !) \n\n\n\n			\n			\n				\n				\n				\n				\n				\n				\n				\n				\n				\n				\n			\n				\n				\n				\n				\n				Tarifs :  25€ / adulte et 12€ / enfant Confirmation de la sortie la veille au soir. Départ garanti dès 5 inscrits. \nLe prix inclus : L’encadrement par un accompagnateur en montagne\, le prêt du matériel d’observation\, un apéritif partagé face à la rivière. Il n’inclus pas : Votre transport A-R jusqu’au point de départ de la randonnée. \nNiveau de difficulté : Niveau 2/5. 2h15 de marche effective\, 6\,5 km et 180m de dénivelé positif au cours de la soirée. Balade tous publics\, s’effectuant uniquement sur des sentiers bien marqués ou des pistes forestières. Sortie adaptée aux familles avec enfants dès 7-8 ans. \nRV devant l’Office de Tourisme de Sisteron pour le covoiturage\, 1 place de la République\, 04200 Sisteron. Parking gratuit avec disque (zone bleue sur la place de l’Hôtel de Ville) ou à la Gare SNCF (5′ à pieds). Covoiturage entre participant.e.s jusqu’au point de départ de la randonnée (Mison). Possibilité de se rejoindre directement à Sourribes à 19h30\, au début de la piste de Baudument (Point GPS). \n			\n				Conditions générales de vente
URL:https://autresversants.com/event/rand-eau-dans-les-gorges-du-vancon-ete/
LOCATION:Sourribes\, Sourribes\, Provence Alpes Côte d'Azur\, 04290\, France
CATEGORIES:Balade ½ Journée,Coucher de soleil,Faune,Vançon
ATTACH;FMTTYPE=image/jpeg:https://autresversants.com/wp-content/uploads/2023/05/Traversee-riviere-Vancon.jpeg
ORGANIZER;CN="Autres Versants":MAILTO:simon@autresversants.com
END:VEVENT
BEGIN:VEVENT
DTSTART;TZID=Europe/Paris:20260727T083000
DTEND;TZID=Europe/Paris:20260727T113000
DTSTAMP:20260421T135742
CREATED:20260418T173949Z
LAST-MODIFIED:20260418T190910Z
UID:5107-1785141000-1785151800@autresversants.com
SUMMARY:Petit-déjeuner nature : oiseaux\, libellules\, papillons de la Durance
DESCRIPTION:Rendez-vous au petit matin dans la zone humide des Piles\, dans le Val de Durance. Nous partirons observer et écouter oiseaux\, insectes et amphibiens peuplant les mares\, prairies et forêts de ce petit site où la nature reprend ses droits. Nous poursuivrons notre visite au lac de Monetier-Allemont\, pour observer les oiseaux du lac et les rapaces en falaise. \nRiche de son maillage de mares\, de canaux\, de boisements et de haies\, la zone humide des Piles représente un espace privilégié pour de nombreuses espèces. Nous prendrons ensuite nos voitures pour un court transfert (5′)\, jusqu’au lac de Monetier-Allemont\, afin d’observer d’autres espèces (oiseaux du lac et rapaces sur les falaises de Crigne). \n\n\n\n\n\n\nAu programme : • Observer et écouter au petit matin quelques espèces d’oiseaux emblématiques • Apprendre à reconnaître papillons et libellules • Traces de castor et amphibiens autour de la mare • Petit-déjeuner partagé face aux oiseaux • Observation des oiseaux du lac sur le plan d’eau de Monetier-Allemont • Identification des rapaces planant autour des falaises de Crigne à la longue-vue. \nSortie organisée et financée par  la Ligue de Protection des Oiseaux du 04 (LPO) : prêt de jumelles pour les participant.e.s et d’une longue vue pour observer les oiseaux en cours de balade.  \nA propos de ce site : la zone des Piles. Nous entrons dans un site qui a été recréé de toutes pièces à partir d’un verger en partenariat entre la LPO et Vinci Autoroutes (pour des raisons de compensation écologique) ! Avec plus de 500 espèces recensées sur seulement 6\,5 hectares\, la zone des Piles est un trésor de biodiversité. Ses prairies abritent le très rare et protégé Azuré de la Sanguisorbe\, papillon typique des prairies humides. \nPrécision importante : Il s’agit d’une sortie grand public\, d’initiation à l’ornithologie (étude des oiseaux) et à l’entomologie (étude des insectes). Toute personne curieuse est donc bienvenue\, même sans aucune connaissance préalable. \nEncadrement : Randonnée en groupe (max 12 personnes)\, encadrée par un accompagnateur en montagne basé à Sisteron. Il vous fournira les éléments techniques et vous fera découvrir l’environnement local. L’itinéraire pourra être modifié en fonction des conditions météo ou de la condition physique des participant.e.s. \nMatériel indispensable :  1 sac à dos confortable (20-30L) pour vos affaires // une paire de bonnes chaussures // 1 tenue adaptée pour la marche (vêtements respirants et légers) // 1 gourde d’eau (1L minimum/pers pour la sortie) // 1 casquette ou chapeau\, lunettes de soleil et crème solaire // 1 coupe-vent imperméable technique (type gore-tex) ou un k-way // une tenue chaude (pour les moments où nous resterons statiques // votre traitement médical (si vous en avez) // \nMatériel optionnel : votre téléphone ou appareil photo\, jumelles d’observation (si vous en possédez). Nul besoin d’emporter vos bâtons (randonnée facile)\, afin de limiter votre propre encombrement. \n\n\n\n			\n			\n				\n				\n				\n				\n				\n				\n				\n				\n				\n				\n			\n				\n				\n				\n				\n				Gratuit sur inscription préalable (possible jusqu’à la veille au soir). Sortie financée par la LPO 04. Confirmation de la sortie la veille au soir. Départ garanti dès 3 inscrits. \nLe prix inclus : L’encadrement par un accompagnateur en montagne\, le prêt du matériel d’observation par la LPO (longue-vue\, jumelles)\, un petit-déjeuner partagé en observant les insectes et les oiseaux. Il n’inclus pas : votre transport A-R jusqu’au point de départ de la randonnée. \nNiveau de difficulté : Niveau 1/5. 45 min de marche effective\, sentier d’environ 450 mètres ponctué par 5 points d’arrêt avec des panneaux pédagogiques\, soit environ 30 à 45 minutes de marche. Il s’agit d’un sentier sans dénivelé\, accessible à tous sans équipement particulier. Prévoir des chaussures étanches par temps humide. Balade tous publics\, s’effectuant uniquement sur des sentiers bien marqués. Sortie adaptée aux familles avec enfants. \nRV à 8h30 devant la zone humide des Piles\, à proximité du péage de l’A51 à La Saulce (Point GPS). En milieu de sortie\, court transfert en voiture (env. 5 min) vers un autre site d’observation : le lac de Monêtier-Allemont. \n Possibilité d’être récupéré à l’Aéropôle de Tallard (Bus 69-535) ou à Sisteron si vous venez en transport en commun. \n			\n				Conditions générales de vente
URL:https://autresversants.com/event/decouverte-oiseaux-libellules-papillons-durance/
LOCATION:Monêtier-Allemont\, Monêtier-Allemont\, Provence Alpes Côte d'Azur\, 05110\, France
CATEGORIES:Balade ½ Journée,Durance,Faune
ATTACH;FMTTYPE=image/jpeg:https://autresversants.com/wp-content/uploads/2026/04/Observation-oiseaux-libellules-papillons-rapaces-Durance.jpg
ORGANIZER;CN="Autres Versants":MAILTO:simon@autresversants.com
END:VEVENT
BEGIN:VEVENT
DTSTART;TZID=Europe/Paris:20260727T180000
DTEND;TZID=Europe/Paris:20260727T203000
DTSTAMP:20260421T135742
CREATED:20260418T191849Z
LAST-MODIFIED:20260418T195627Z
UID:5155-1785175200-1785184200@autresversants.com
SUMMARY:Enquête à la lavanderaie : grand jeu nature
DESCRIPTION:Suite à la disparition mystérieuse d’un animal sauvage autour de la lavanderaie\, à vous de reprendre l’enquête\, d’interroger les témoins dans différents milieux naturels (vergers\, rivière\, prés\, forêts\, zones humides…) pour résoudre l’énigme et trouver le(s) coupable(s) ! Un jeu collaboratif où vous serez les héros. \nLe principe du jeu :en solo (enfants à partir de 8 ans) ou en duo parent/enfant (jeu adapté pour les enfants âgés d’au moins 4/5 ans) vous collaborerez en groupe pour vous rendre sur différents sites autour de la lavanderaie des Hautes-Baronnies afin de découvrir les espèces sauvages des environs. L’animateur vous emmène sur site\, mais ensuite c’est à vous de tout faire ! A vous de faire les bons choix\, car les options sont nombreuses et le temps limité pour boucler l’enquête. Une récompense vous attend si vous faites les bonnes déductions ! \nCe que le jeu n’est pas : une sortie randonnée « classique »\, mais ce jeu implique de marcher un peu dans les environs de la lavanderaie des Baronnies. Le groupe adaptera son itinéraire en fonction des contraintes imposées par le jeu et du temps disponible. Sur site\, les enfants seront en situation d’autonomie pour enquêter\, chercher des indices\, etc. \nMatériel indispensable :  un petit 1 sac à dos pour vos affaires (gourde avec au moins 1L d’eau\, k-way et pull suivant la météo) // une paire de baskets // 1 casquette ou chapeau\, lunettes de soleil // votre traitement médical (si vous ou votre enfant en a) // votre téléphone. \n\n\n\n			\n			\n				\n				\n				\n				\n				\n				\n				\n				\n				\n				Tarif : 10€ / enfant. Gratuit pour les adultes accompagnants. Inscription nécessaire auprès de la lavanderaie des Hautes-Baronnies au 06 84 54 73 10 (places limitées).  \nLe prix inclus : L’encadrement du jeu par un accompagnateur en montagne et une récompense finale si vous parvenez à résoudre l’énigme. \nLe prix n’inclus pas : Votre transport jusqu’à la lavanderaie des Hautes-Baronnies\, les encas et l’eau pour vous et votre enfant. \nNiveau de difficulté : Niveau 1/5. 1h de marche effective et environ 50m de dénivelé positif (suivant le parcours choisi par le groupe). Jeu tous publics adaptés aux enfants dès 4/5 ans\, s’effectuant uniquement sur des sentiers bien marqués ou dans les champs. Les chemins ne sont pas accessibles aux poussettes. \nRV à la lavanderaie des Hautes-Baronnies : 650 Chemin les Planes\, 05700 Nossage-et-Benevent (Point GPS) \n			\n				Conditions générales de vente
URL:https://autresversants.com/event/jeu-enquete-lavandes-orpierre/
LOCATION:Orpierre\, Orpierre\, Provence Alpes Côte d'Azur\, France
CATEGORIES:Detective Club,Jeu
ATTACH;FMTTYPE=image/jpeg:https://autresversants.com/wp-content/uploads/2026/04/Lavandes-Baronnies.jpeg
ORGANIZER;CN="Autres Versants":MAILTO:simon@autresversants.com
END:VEVENT
BEGIN:VEVENT
DTSTART;TZID=Europe/Paris:20260806T180000
DTEND;TZID=Europe/Paris:20260806T223000
DTSTAMP:20260421T135742
CREATED:20260418T214109Z
LAST-MODIFIED:20260418T214256Z
UID:5198-1786039200-1786055400@autresversants.com
SUMMARY:Coucher de soleil sur les Pénitents des Mées
DESCRIPTION:Immenses géants de pierre dominant la Durance\, les Pénitents des Mées intriguent lorsque l’on remonte la Durance\, sans pour autant qu’on s’y arrête. Je vous propose de les découvrir d’en bas… puis d’en-haut ! Nous y partagerons un apéritif lorsque le soleil se couche face à nous\, sur l’imposante montagne de Lure. Une randonnée qui nous fera remonter l’histoire géologique de la Haute-Provence (Géoparc UNESCO) et mesurer l’importance du pouvoir d’érosion des rivières. \n\nNous partons en fin d’après-midi pour le village des Mées\, célèbre pour ses « Pénitents ». Contrairement à ce que la légende raconte\, ces immenses blocs de pierres ne sont pas des moines pétrifiés… tout s’explique\, par la géologie ! \n\n\nNous commençons la balade en forêt\, puis au bord du canal de la Durance\, entre anciens tunnels\, vergers et boisements de pins\, avant d’atteindre le canal. \n\n\nCommence ensuite notre ascension\, au moment où ces roches prennent une teinte rose-orangée. En faisant le tour de ces « Pénitents »\, vous comprendrez mieux le contexte géologique ayant conduit à la formation de ces roches. Au soleil couchant\, nous partagerons un apéritif (offert par le guide) au sommet\, en regardant le soleil se coucher sur l’imposante montagne de Lure. \n\n\nLe retour se fera en début de nuit\, à la lumière de nos lampes frontales\, par le vieux village médiéval. \nAu programme – Présentation du Géoparc UNESCO de Haute-Provence et de sa géologie étonnante : conglomérats et poudingues du bassin de Valensole • Histoires réelles et fantasmées autour des Pénitents\, immenses blocs rocheux dominant la vallée de la Durance • Apéritif partagé au sommet\, au coucher du soleil\, face à la montagne de Lure \nEncadrement – Randonnée en groupe (max 13 personnes)\, encadrée par un accompagnateur en montagne basé à Sisteron. Il vous fournira les éléments techniques et vous fera découvrir l’environnement local. L’itinéraire pourra être modifié en fonction des conditions météo ou de la condition physique des participant.e.s. \nNiveau de difficulté – Niveau 2/5. 5km\, environ 2h de marche effective et 200m de dénivelé positif au cours de l’après-midi/soirée. Balade tous publics s’effectuant à un rythme tranquille\, s’effectuant sur des sentiers marqués sans pente raide.• Sentier facile mais sensation                 de vertige possible ! Les enfants sont bienvenus dès 7/8 ans\, s’ils sont autonomes et motivés pour la marche. Des activités spécifiques de découverte peuvent être prévues pour eux. \nMatériel indispensable – 1 sac à dos confortable (20-30L) pour vos affaires // des chaussures de montagne avec des crampons (pas de baskets lisses) // 1 tenue adaptée pour la marche (vêtements respirants et légers) // 1 gourde d’eau (1L minimum/personne pour la sortie) // 1 casquette ou chapeau\, lunettes de soleil et crème solaire // 1 coupe-vent imperméable technique (type gore-tex) ou un k-way // 1 pull supplémentaire pour le soir // Lampe frontale // votre traitement médical (si vous en avez). \nMatériel optionnel – votre téléphone ou appareil photo\, jumelles d’observation\, bâtons de randonnée (si vous avez l’habitude de marcher avec !) \n\n			\n			\n				\n				\n				\n				\n				\n				\n				\n				\n				\n				\n			\n				\n				\n				\n				\n				Tarifs :  25€ / adulte et 12€ / enfant. Réservations possibles jusqu’à la veille au soir\, 20h. Départ garanti dès 5 participants inscrits.  \nLe prix inclus : L’encadrement par un accompagnateur en montagne\, un apéritif à base de produits locaux à partager en cours de randonnée\, au soleil couchant. \nLe prix n’inclus pas : le transport jusqu’au point de départ\, les autres encas/snacks et l’eau. Un covoiturage sera organisé depuis Sisteron afin de minimiser le nombre de voitures en circulation. \nNiveau de difficulté : Niveau 2/5. 2h30 de marche effective et 200m de dénivelé positif au cours de la soirée. Balade tous publics s’effectuant à un rythme tranquille\, s’effectuant sur des sentiers bien marqués. Sentier facile mais sensation de vertige possible par endroits ! Une montée soutenue mais courte (environ 30 min)\, passages sur les crêtes (succession de petites montées/descentes). \nRV à 18h à Sisteron (devant l’Office de Tourisme pour le covoiturage) ou à 18h30 au parking des Pénitents aux Mées (Point GPS). Fin autour de 22h30.  \n			\n				Conditions générales de vente
URL:https://autresversants.com/event/coucher-de-soleil-penitents-des-mees/
LOCATION:Les Mées\, Les Mées\, Provence Alpes Côte d'Azur\, France
CATEGORIES:Balade ½ Journée,Coucher de soleil,Nocturne
ATTACH;FMTTYPE=image/jpeg:https://autresversants.com/wp-content/uploads/2025/02/Les-penitents-des-Mees-nocturne.jpeg
ORGANIZER;CN="Autres Versants":MAILTO:simon@autresversants.com
END:VEVENT
BEGIN:VEVENT
DTSTART;TZID=Europe/Paris:20260817T180000
DTEND;TZID=Europe/Paris:20260817T203000
DTSTAMP:20260421T135742
CREATED:20260418T200046Z
LAST-MODIFIED:20260418T200145Z
UID:5170-1786989600-1786998600@autresversants.com
SUMMARY:Enquête à la lavanderaie : grand jeu nature
DESCRIPTION:Suite à la disparition mystérieuse d’un animal sauvage autour de la lavanderaie\, à vous de reprendre l’enquête\, d’interroger les témoins dans différents milieux naturels (vergers\, rivière\, prés\, forêts\, zones humides…) pour résoudre l’énigme et trouver le(s) coupable(s) ! Un jeu collaboratif où vous serez les héros. \nLe principe du jeu :en solo (enfants à partir de 8 ans) ou en duo parent/enfant (jeu adapté pour les enfants âgés d’au moins 4/5 ans) vous collaborerez en groupe pour vous rendre sur différents sites autour de la lavanderaie des Hautes-Baronnies afin de découvrir les espèces sauvages des environs. L’animateur vous emmène sur site\, mais ensuite c’est à vous de tout faire ! A vous de faire les bons choix\, car les options sont nombreuses et le temps limité pour boucler l’enquête. Une récompense vous attend si vous faites les bonnes déductions ! \nCe que le jeu n’est pas : une sortie randonnée « classique »\, mais ce jeu implique de marcher un peu dans les environs de la lavanderaie des Baronnies. Le groupe adaptera son itinéraire en fonction des contraintes imposées par le jeu et du temps disponible. Sur site\, les enfants seront en situation d’autonomie pour enquêter\, chercher des indices\, etc. \nMatériel indispensable :  un petit 1 sac à dos pour vos affaires (gourde avec au moins 1L d’eau\, k-way et pull suivant la météo) // une paire de baskets // 1 casquette ou chapeau\, lunettes de soleil // votre traitement médical (si vous ou votre enfant en a) // votre téléphone. \n\n\n\n			\n			\n				\n				\n				\n				\n				\n				\n				\n				\n				\n				Tarif : 10€ / enfant. Gratuit pour les adultes accompagnants. Inscription nécessaire auprès de la lavanderaie des Hautes-Baronnies au 06 84 54 73 10 (places limitées).  \nLe prix inclus : L’encadrement du jeu par un accompagnateur en montagne et une récompense finale si vous parvenez à résoudre l’énigme. \nLe prix n’inclus pas : Votre transport jusqu’à la lavanderaie des Hautes-Baronnies\, les encas et l’eau pour vous et votre enfant. \nNiveau de difficulté : Niveau 1/5. 1h de marche effective et environ 50m de dénivelé positif (suivant le parcours choisi par le groupe). Jeu tous publics adaptés aux enfants dès 4/5 ans\, s’effectuant uniquement sur des sentiers bien marqués ou dans les champs. Les chemins ne sont pas accessibles aux poussettes. \nRV à la lavanderaie des Hautes-Baronnies : 650 Chemin les Planes\, 05700 Nossage-et-Benevent (Point GPS) \n			\n				Conditions générales de vente
URL:https://autresversants.com/event/enquete-lavandes-orpierre/
LOCATION:Orpierre\, Orpierre\, Provence Alpes Côte d'Azur\, France
CATEGORIES:Detective Club,Jeu
ATTACH;FMTTYPE=image/jpeg:https://autresversants.com/wp-content/uploads/2026/04/Lavandes-Baronnies.jpeg
ORGANIZER;CN="Autres Versants":MAILTO:simon@autresversants.com
END:VEVENT
BEGIN:VEVENT
DTSTART;TZID=Europe/Paris:20260819T083000
DTEND;TZID=Europe/Paris:20260819T113000
DTSTAMP:20260421T135742
CREATED:20260418T185423Z
LAST-MODIFIED:20260418T190759Z
UID:5135-1787128200-1787139000@autresversants.com
SUMMARY:Petit-déjeuner nature : oiseaux\, libellules et papillons de la Durance
DESCRIPTION:Rendez-vous au petit matin dans la zone humide des Piles\, dans le Val de Durance. Nous partirons observer et écouter oiseaux\, insectes et amphibiens peuplant les mares\, prairies et forêts de ce petit site où la nature reprend ses droits. Nous poursuivrons notre visite au lac de Monetier-Allemont\, pour observer les oiseaux du lac et les rapaces en falaise. \nRiche de son maillage de mares\, de canaux\, de boisements et de haies\, la zone humide des Piles représente un espace privilégié pour de nombreuses espèces. Nous prendrons ensuite nos voitures pour un court transfert (5′)\, jusqu’au lac de Monetier-Allemont\, afin d’observer d’autres espèces (oiseaux du lac et rapaces sur les falaises de Crigne). \n\n\n\n\n\n\nAu programme : • Observer et écouter au petit matin quelques espèces d’oiseaux emblématiques • Apprendre à reconnaître papillons et libellules • Traces de castor et amphibiens autour de la mare • Petit-déjeuner partagé face aux oiseaux • Observation des oiseaux du lac sur le plan d’eau de Monetier-Allemont • Identification des rapaces planant autour des falaises de Crigne à la longue-vue. \nSortie organisée et financée par  la Ligue de Protection des Oiseaux du 04 (LPO) : prêt de jumelles pour les participant.e.s et d’une longue vue pour observer les oiseaux en cours de balade.  \nA propos de ce site : la zone des Piles. Nous entrons dans un site qui a été recréé de toutes pièces à partir d’un verger en partenariat entre la LPO et Vinci Autoroutes (pour des raisons de compensation écologique) ! Avec plus de 500 espèces recensées sur seulement 6\,5 hectares\, la zone des Piles est un trésor de biodiversité. Ses prairies abritent le très rare et protégé Azuré de la Sanguisorbe\, papillon typique des prairies humides. \nPrécision importante : Il s’agit d’une sortie grand public\, d’initiation à l’ornithologie (étude des oiseaux) et à l’entomologie (étude des insectes). Toute personne curieuse est donc bienvenue\, même sans aucune connaissance préalable. \nEncadrement : Randonnée en groupe (max 12 personnes)\, encadrée par un accompagnateur en montagne basé à Sisteron. Il vous fournira les éléments techniques et vous fera découvrir l’environnement local. L’itinéraire pourra être modifié en fonction des conditions météo ou de la condition physique des participant.e.s. \nMatériel indispensable :  1 sac à dos confortable (20-30L) pour vos affaires // une paire de bonnes chaussures // 1 tenue adaptée pour la marche (vêtements respirants et légers) // 1 gourde d’eau (1L minimum/pers pour la sortie) // 1 casquette ou chapeau\, lunettes de soleil et crème solaire // 1 coupe-vent imperméable technique (type gore-tex) ou un k-way // une tenue chaude (pour les moments où nous resterons statiques // votre traitement médical (si vous en avez) // \nMatériel optionnel : votre téléphone ou appareil photo\, jumelles d’observation (si vous en possédez). Nul besoin d’emporter vos bâtons (randonnée facile)\, afin de limiter votre propre encombrement. \n\n\n\n			\n			\n				\n				\n				\n				\n				\n				\n				\n				\n				\n				\n			\n				\n				\n				\n				\n				Gratuit sur inscription préalable (possible jusqu’à la veille au soir). Sortie financée par la LPO 04. Confirmation de la sortie la veille au soir. Départ garanti dès 3 inscrits. \nLe prix inclus : L’encadrement par un accompagnateur en montagne\, le prêt du matériel d’observation par la LPO (longue-vue\, jumelles)\, un petit-déjeuner partagé en observant les insectes et les oiseaux. Il n’inclus pas : votre transport A-R jusqu’au point de départ de la randonnée. \nNiveau de difficulté : Niveau 1/5. 45 min de marche effective\, sentier d’environ 450 mètres ponctué par 5 points d’arrêt avec des panneaux pédagogiques\, soit environ 30 à 45 minutes de marche. Il s’agit d’un sentier sans dénivelé\, accessible à tous sans équipement particulier. Prévoir des chaussures étanches par temps humide. Balade tous publics\, s’effectuant uniquement sur des sentiers bien marqués. Sortie adaptée aux familles avec enfants. \nRV à 8h30 devant la zone humide des Piles\, à proximité du péage de l’A51 à La Saulce (Point GPS). En milieu de sortie\, court transfert en voiture (env. 5 min) vers un autre site d’observation : le lac de Monêtier-Allemont. \n Possibilité d’être récupéré à l’Aéropôle de Tallard (Bus 69-535) ou à Sisteron si vous venez en transport en commun. \n			\n				Conditions générales de vente
URL:https://autresversants.com/event/decouverte-oiseaux-libellules-papillons-durance-2/
LOCATION:Monêtier-Allemont\, Monêtier-Allemont\, Provence Alpes Côte d'Azur\, 05110\, France
CATEGORIES:Balade ½ Journée,Durance,Faune
ATTACH;FMTTYPE=image/jpeg:https://autresversants.com/wp-content/uploads/2026/04/Observation-oiseaux-libellules-papillons-rapaces-Durance.jpg
ORGANIZER;CN="Autres Versants":MAILTO:simon@autresversants.com
END:VEVENT
END:VCALENDAR