BEGIN:VCALENDAR
VERSION:2.0
PRODID:-//autres versants - ECPv6.14.2//NONSGML v1.0//EN
CALSCALE:GREGORIAN
METHOD:PUBLISH
X-ORIGINAL-URL:https://autresversants.com
X-WR-CALDESC:Évènements pour autres versants
REFRESH-INTERVAL;VALUE=DURATION:PT1H
X-Robots-Tag:noindex
X-PUBLISHED-TTL:PT1H
BEGIN:VTIMEZONE
TZID:Europe/Paris
BEGIN:DAYLIGHT
TZOFFSETFROM:+0100
TZOFFSETTO:+0200
TZNAME:CEST
DTSTART:20260329T010000
END:DAYLIGHT
BEGIN:STANDARD
TZOFFSETFROM:+0200
TZOFFSETTO:+0100
TZNAME:CET
DTSTART:20261025T010000
END:STANDARD
END:VTIMEZONE
BEGIN:VEVENT
DTSTART;TZID=Europe/Paris:20260530T180000
DTEND;TZID=Europe/Paris:20260530T223000
DTSTAMP:20260421T193159
CREATED:20250531T162555Z
LAST-MODIFIED:20260418T103052Z
UID:4738-1780164000-1780180200@autresversants.com
SUMMARY:Randonnée au clair de lune sur les crêtes des Monges
DESCRIPTION:Venez assister à un lever de pleine lune sur le massif des Monges ! Après une montée en forêt et un apéritif au coucher du soleil\, nous marcherons sur les crêtes en attendant de voir la lune se lever… Marcher la nuit en forêt\, c’est une expérience qui peut faire peur\, mais il faut la vivre !  \nAu programme : Balade en forêt aux portes du massif des Monges • Arrivée sur les crêtes offrant des vues superbes sur Lure\, le plateau de Saint-Geniez\, le val de Durance\, Sisteron et les Monges • Coucher de soleil en partageant un apéritif • Lever de pleine lune depuis la crête • Retour nocturne à la lumière de la lune\, en écoutant les bruits et en profitant des odeurs de la nuit • Contes et petites histoires sur les animaux qui vivent la nuit (pour les enfants- • Observation du ciel étoilé \n\n\n\n\n\n\n\n\n\nEncadrement : Randonnée en groupe (max 13 personnes)\, encadrée par un accompagnateur en montagne basé à Sisteron. Il vous fournira les éléments techniques et vous fera découvrir l’environnement local. L’itinéraire pourra être modifié en fonction des conditions météo ou de la condition physique des participant.e.s. \nMatériel indispensable :  1 sac à dos confortable (20-30L) pour vos affaires // idéalement\, des chaussures de montagne avec des crampons ou à défaut\, une paire de baskets // 1 tenue adaptée pour la marche (vêtements respirants et légers) // 1 gourde d’eau (1L minimum/personne pour la sortie) // 1 casquette ou chapeau\, lunettes de soleil et crème solaire // 1 coupe-vent imperméable technique (type gore-tex) ou un k-way // un bon pull pour la soirée // votre lampe frontale (prêt possible si vous n’en possédez pas // votre traitement médical (si vous en avez). \nMatériel optionnel : votre téléphone ou appareil photo\, jumelles d’observation\, bâtons de randonnée (si vous avez l’habitude de marcher avec !) \n\n\n\n			\n			\n				\n				\n				\n				\n				\n				\n				\n				\n				\n				\n			\n				\n				\n				\n				\n				Tarifs :  25€ / adulte et 12€ / enfant (sous la responsabilité d’un adulte). Inscriptions possibles jusqu’à la veille au soir (20h)\, départ garanti dès 5 inscrits. \nLe prix inclus : L’encadrement par un accompagnateur en montagne\, un apéritif à partager. Il n’inclus pas : Votre transport A-R jusqu’au point de départ de la randonnée\, votre pique-nique du soir (si vous souhaitez dîner en plus de l’apéritif offert). Un covoiturage A-R sera proposé depuis l’Office de Tourisme de Sisteron en utilisant les véhicules des participant.e.s à la sortie. \nNiveau de difficulté : Niveau 3/5. 8 km\, 3h de marche\, 350m de dénivelé positif. Randonnée s’adressant à toute personne en bonne condition physique. Les enfants dès 8-9 ans sont bienvenus\, s’ils sont à l’aise dans la marche et motivés. La randonnée s’effectuera à un rythme tranquille\, uniquement sur des sentiers forestiers et des pistes bien marquées. Quelques passages sur rochers\, sans vertige. Retour nocturne (env. 45 min)\, uniquement sur piste forestière. \n			\n				Conditions générales de vente
URL:https://autresversants.com/event/balade-nocturne-en-foret-sous-la-pleine-lune/
LOCATION:Saint-Geniez\, Saint-Geniez\, Provence Alpes Côte d'Azur\, France
CATEGORIES:Balade ½ Journée,Coucher de soleil,Monges,Nocturne
ATTACH;FMTTYPE=image/jpeg:https://autresversants.com/wp-content/uploads/2025/01/Nocturne-lac-des-Monges.jpg
ORGANIZER;CN="Autres Versants":MAILTO:simon@autresversants.com
END:VEVENT
END:VCALENDAR