BEGIN:VCALENDAR
VERSION:2.0
PRODID:-//autres versants - ECPv6.14.2//NONSGML v1.0//EN
CALSCALE:GREGORIAN
METHOD:PUBLISH
X-ORIGINAL-URL:https://autresversants.com
X-WR-CALDESC:Évènements pour autres versants
REFRESH-INTERVAL;VALUE=DURATION:PT1H
X-Robots-Tag:noindex
X-PUBLISHED-TTL:PT1H
BEGIN:VTIMEZONE
TZID:Europe/Paris
BEGIN:DAYLIGHT
TZOFFSETFROM:+0100
TZOFFSETTO:+0200
TZNAME:CEST
DTSTART:20260329T010000
END:DAYLIGHT
BEGIN:STANDARD
TZOFFSETFROM:+0200
TZOFFSETTO:+0100
TZNAME:CET
DTSTART:20261025T010000
END:STANDARD
END:VTIMEZONE
BEGIN:VEVENT
DTSTART;TZID=Europe/Paris:20260328T083000
DTEND;TZID=Europe/Paris:20260328T110000
DTSTAMP:20260421T163201
CREATED:20240515T065515Z
LAST-MODIFIED:20260308T152217Z
UID:4006-1774686600-1774695600@autresversants.com
SUMMARY:Balade ornitho • Les oiseaux du lac (migrateurs et hivernants)
DESCRIPTION:Venez observer les nombreuses espèces d’oiseaux qui fréquentent la Réserve Ornithologique de Haute Provence à l’occasion d’une sortie accompagnée par un guide ornithologique. Petit-déjeuner partagé en écoutant les oiseaux ! \n\n\n\n\n\n\nAu programme : • Comprendre le rôle du corridor de la Durance dans la migration des espèces • Observer au petit matin quelques espèces d’oiseaux emblématiques en fonction de la saison (hivernants\, passage d’espèces en migration\, arrivée des premiers « estivants » nicheurs). \n\nEspèces emblématiques pouvant être rencontrées : Bouscarle de Cetti\, Bruant des roseaux\, Rousserole turdoïde\, Guêpier d’Europe (sous réserve)\, Martin-pêcheur d’Europe\, Grèbe huppé\, Grèbe castagneux\, Foulque macroule\, Fuligule milouin\, Sarcelle d’hiver\, Héron cendré\, Héron pourpré\, Aigrette garzette\, Grande Aigrette\, Canard souchet\, Canard siffleur\, Bécassine des marais\, Faucon Hobereau…\n\n\n\nEspèces migratrices (de passage dans la région) : remiz penduline\, grues cendrées. Attention\, voir ces espèces n’est pas garanti ! Vous pourrez néanmoins profiter de beaux paysages et vous aurez la possibilité d’apercevoir d’autres espèces (papillons\, libellules…). \n\n\n\n\nEncadrement : Randonnée en groupe (max 8 personnes)\, encadrée par un accompagnateur en montagne basé à Sisteron. Il vous fournira les éléments techniques et vous fera découvrir l’environnement local. L’itinéraire pourra être modifié en fonction des conditions météo ou de la condition physique des participant.e.s. \nMatériel indispensable :  1 sac à dos confortable (20-30L) pour vos affaires // une paire de bonnes chaussures // 1 tenue adaptée pour la marche (vêtements respirants et légers) // 1 gourde d’eau (1L minimum/pers pour la sortie) // 1 casquette ou chapeau\, lunettes de soleil et crème solaire // 1 vêtement chaud pour les moments d’observation des oiseaux // 1 coupe-vent imperméable technique (type gore-tex) ou un k-way // votre traitement médical (si vous en avez). \nMatériel optionnel : votre téléphone ou appareil photo\, jumelles d’observation et guide ornithologique (si vous en possédez). Évitez de prendre vos bâtons de marche (balade facile) : ils risquent de vous encombrer ! \n\n\n\n			\n			\n				\n				\n				\n				\n				\n				\n				\n				\n				\n				\n			\n				\n				\n				\n				\n				Tarifs :  20€ / adulte et 10€ / enfant (sous la responsabilité d’un adulte). Inscriptions possibles jusqu’à la veille au soir. Départ garanti dès 5 inscrits. \nLe prix inclus : L’encadrement par un accompagnateur en montagne\, le prêt du matériel d’observation par la LPO (longue-vue\, jumelles)\, un petit-déjeuner partagé face aux oiseaux du lac. Il n’inclus pas : Votre transport A-R jusqu’au point de départ de la randonnée. \nNiveau de difficulté : Niveau 1/5. 1h15 de marche effective\, 4\,5 km sans dénivelé positif au cours de la sortie. Balade tous publics\, s’effectuant uniquement sur des sentiers bien marqués sans pente raide. Sortie adaptée aux familles avec enfants. \nRV à 8h15 Sisteron pour le covoiturage (Office de Tourisme)\, ou directement à 8h30 devant l’Office de Tourisme de Château-Arnoux\, Ferme de Font Robert Avenue de la Bastide\, 04160 Château-Arnoux-Saint-Auban). Départ à pied depuis l’Office de Tourisme. \n			\n				Conditions générales de vente
URL:https://autresversants.com/event/decouverte-oiseaux-reserve-ornithologie-haute-provence/
LOCATION:Château-Arnoux-Saint-Auban\, Château-Arnoux-Saint-Auban\, Provence Alpes Côte d'Azur\, France
CATEGORIES:Balade ½ Journée,Faune
ATTACH;FMTTYPE=image/jpeg:https://autresversants.com/wp-content/uploads/2026/02/Visuels-balades-ornitho-03.jpg
ORGANIZER;CN="Autres Versants":MAILTO:simon@autresversants.com
END:VEVENT
END:VCALENDAR