BEGIN:VCALENDAR
VERSION:2.0
PRODID:-//autres versants - ECPv6.14.2//NONSGML v1.0//EN
CALSCALE:GREGORIAN
METHOD:PUBLISH
X-WR-CALNAME:autres versants
X-ORIGINAL-URL:https://autresversants.com
X-WR-CALDESC:Évènements pour autres versants
REFRESH-INTERVAL;VALUE=DURATION:PT1H
X-Robots-Tag:noindex
X-PUBLISHED-TTL:PT1H
BEGIN:VTIMEZONE
TZID:Europe/Paris
BEGIN:DAYLIGHT
TZOFFSETFROM:+0100
TZOFFSETTO:+0200
TZNAME:CEST
DTSTART:20240331T010000
END:DAYLIGHT
BEGIN:STANDARD
TZOFFSETFROM:+0200
TZOFFSETTO:+0100
TZNAME:CET
DTSTART:20241027T010000
END:STANDARD
END:VTIMEZONE
BEGIN:VEVENT
DTSTART;TZID=Europe/Paris:20241029T140000
DTEND;TZID=Europe/Paris:20241029T180000
DTSTAMP:20260422T164033
CREATED:20240821T074539Z
LAST-MODIFIED:20240821T081029Z
UID:4112-1730210400-1730224800@autresversants.com
SUMMARY:Couleurs d'automne dans les gorges de la Méouge
DESCRIPTION:L’automne est sans aucun doute le meilleur moment pour visiter les gorges de la Méouge ! Les couleurs y sont magnifiques\, lorsqu’érables\, frênes et sumacs virent à l’orange puis au jaune. Partons les visiter ! \n\n\n\n\n\n\n• Comprendre la vie d’une rivière en remontant son cours\, mieux connaître la faune/flore des bords de rivière et notamment les espèces protégées (zone Natura 2000)• Gorges et tufs calcaires : un peu d’histoire pour comprendre leur formation• Découverte des vasques et cascades autour du ruisseau du Rif \nEncadrement : Randonnée en groupe (max 13 personnes)\, encadrée par un accompagnateur en montagne basé à Sisteron. Il vous fournira les éléments techniques et vous fera découvrir l’environnement local. L’itinéraire pourra être modifié en fonction des conditions météo ou de la condition physique des participant.e.s. \nMatériel indispensable :  1 sac à dos confortable (20-30L) pour vos affaires // des chaussures de montagne avec des crampons (pas de baskets lisses) // 1 tenue adaptée pour la marche (vêtements respirants et légers) // 1 gourde d’eau (1L minimum/pers pour la sortie) // 1 casquette ou chapeau\, lunettes de soleil et crème solaire // 1 coupe-vent imperméable technique (type gore-tex) ou un k-way // votre traitement médical (si vous en avez). \nMatériel optionnel : votre téléphone ou appareil photo\, jumelles d’observation\, bâtons de randonnée (si vous avez l’habitude de marcher avec !) \n\n\n\n			\n			\n				\n				\n				\n				\n				\n				\n				\n				\n				\n				\n			\n				\n				\n				\n				\n				Tarifs :  25€ / adulte et 12€ / enfant (sous la responsabilité d’un adulte) \nLe prix inclut : L’encadrement par un accompagnateur en montagne\, une collation / en-cas local à partager. Il n’inclut pas : Votre transport A-R jusqu’au point de départ de la randonnée. Un covoiturage sera organisé depuis l’Office de Tourisme à Sisteron avec les véhicules des participant.e.s à la sortie. \nNiveau de difficulté : Niveau 2/5. 1h30 de marche effective et 150m de dénivelé positif au cours de la sortie. Randonnée facile\, tous publics\, s’effectuant uniquement sur des sentiers bien marqués sans pente raide. Quelques passages ravinés mais sécurisés nécessiteront votre vigilance. Les enfants sont bienvenus s’ils peuvent marcher seuls ; des activités spécifiques peuvent être prévues pour eux\, merci de le signaler lors de votre inscription. \nRV devant l’Office de Tourisme de Sisteron (1 place de la République\, 04200 Sisteron). Parking gratuit avec disque (zone bleue) sur place ou à la gare SNCF. Covoiturage entre les participant.e.s à la sortie jusqu’au point de départ de la randonnée.  \n			\n				Conditions générales de vente
URL:https://autresversants.com/event/couleurs-dautomne-dans-les-gorges-de-la-meouge/
LOCATION:Val Buëch-Méouge\, Val Buëch-Méouge\, Provence-Alpes Côte d'Azur\, France
CATEGORIES:Balade ½ Journée,Méouge
ATTACH;FMTTYPE=image/jpeg:https://autresversants.com/wp-content/uploads/2024/02/Les-gorges-de-la-Meouge-a-lautomne.jpeg
END:VEVENT
END:VCALENDAR