BEGIN:VCALENDAR
VERSION:2.0
PRODID:-//autres versants - ECPv6.14.2//NONSGML v1.0//EN
CALSCALE:GREGORIAN
METHOD:PUBLISH
X-WR-CALNAME:autres versants
X-ORIGINAL-URL:https://autresversants.com
X-WR-CALDESC:Évènements pour autres versants
REFRESH-INTERVAL;VALUE=DURATION:PT1H
X-Robots-Tag:noindex
X-PUBLISHED-TTL:PT1H
BEGIN:VTIMEZONE
TZID:Europe/Paris
BEGIN:DAYLIGHT
TZOFFSETFROM:+0100
TZOFFSETTO:+0200
TZNAME:CEST
DTSTART:20240331T010000
END:DAYLIGHT
BEGIN:STANDARD
TZOFFSETFROM:+0200
TZOFFSETTO:+0100
TZNAME:CET
DTSTART:20241027T010000
END:STANDARD
END:VTIMEZONE
BEGIN:VEVENT
DTSTART;TZID=Europe/Paris:20240812T183000
DTEND;TZID=Europe/Paris:20240812T230000
DTSTAMP:20260422T193643
CREATED:20240605T104042Z
LAST-MODIFIED:20240605T172820Z
UID:4071-1723487400-1723503600@autresversants.com
SUMMARY:Rando du vertige sur la Grande Fistoire
DESCRIPTION:Une randonnée courte mais escarpée vers la Grande Fistoire (Le Caire). Cette montagne célèbre pour sa via ferrata peut aussi se gravir en rando ! Nous partirons en fin de journée sous les lumières du soir\, pour admirer la vue au soleil couchant depuis le sommet. Redescente à la tombée de la nuit\, sur une piste plus tranquille\, en profitant d’une vue presque à la verticale sur les nombreux champs de pommiers présents dans la vallée. \n\n\n\n\n\n\n\n\n\n\n\n\nAu programme : • Présentation du Géoparc UNESCO de Haute-Provence et de sa géologie étonnante : une histoire géologique tourmentée • Découverte de l’arboriculture dans les Hautes Terres de Provence • Des vues impressionnantes sur les ponts de singes et les passages aménagés dans le rocher en contrebas • Apéritif partagé au sommet\, au coucher du soleil et un retour à la tombée de la nuit\, sous les étoiles \n\n\n\n\n\n\n\n\n\nEncadrement : Randonnée en groupe (max 13 personnes)\, encadrée par un accompagnateur en montagne basé à Sisteron. Il vous fournira les éléments techniques et vous fera découvrir l’environnement local. L’itinéraire pourra être modifié en fonction des conditions météo ou de la condition physique des participant.e.s. \nMatériel indispensable :  1 sac à dos confortable (20-30L) pour vos affaires // idéalement\, des chaussures de montagne avec des crampons ou à défaut\, une paire de baskets // 1 tenue adaptée pour la marche (vêtements respirants et légers) // 1 gourde d’eau (1L minimum/personne pour la sortie) // 1 casquette ou chapeau\, lunettes de soleil et crème solaire // 1 coupe-vent imperméable technique (type gore-tex) ou un k-way en fonction du temps // un pull chaud s’il fait frais le soir // une lampe frontale ou votre téléphone avec torche\, chargé // votre traitement médical (si vous en avez). \nMatériel optionnel : appareil photo\, jumelles d’observation\, bâtons de randonnée (si vous avez l’habitude de marcher avec !) \n\n\n\n			\n			\n				\n				\n				\n				\n				\n				\n				\n				\n				\n				\n			\n				\n				\n				\n				\n				Tarifs : 25€ / adulte et 12€ / enfant (sous la responsabilité d’un adulte). Inscriptions jusqu’à la veille au soir (20h). Départ garanti dès 6 inscrits. \nLe prix inclus : L’encadrement par un accompagnateur en montagne\, un apéritif au sommet partager. Il n’inclus pas : Votre transport A-R jusqu’au point de départ de la randonnée\, les autres encas et l’eau. Un covoiturage A-R sera organisé depuis l’Office de Tourisme à Sisteron. \nNiveau de difficulté : Niveau 3/5. 1h45 à 2h de marche effective et 300m de dénivelé positif en cumulé au cours de la soirée. Randonnée s’adressant à des randonneurs occasionnels ou réguliers. Sentier raide à la montée\, s’effectuant à un rythme tranquille. Sensation de vertige au sommet\, mais les passages empruntés ne sont pas exposés au vide ! \nRV à 18h30 devant l’Office de Tourisme à Sisteron (1 place de la République) ou à 19h30 au départ de la via ferrata de la grande fistoire\, après le village du Caire (Point GPS). Covoiturage entre les participant.e.s organisé au départ depuis l’Office de Tourisme\, afin de minimiser le nombre de véhicules empruntés pour la sortie. \n			\n				Conditions générales de vente
URL:https://autresversants.com/event/rando-du-vertige-sur-la-grande-fistoire/
LOCATION:Le Caire\, Le Caire\, Provence Alpes Côte d'Azur\, France
CATEGORIES:Balade ½ Journée,Coucher de soleil
ATTACH;FMTTYPE=image/jpeg:https://autresversants.com/wp-content/uploads/2024/06/Grande-fistoire-Rando-du-vertige-Hautes-Terres-de-Provence.jpg
ORGANIZER;CN="Autres Versants":MAILTO:simon@autresversants.com
END:VEVENT
END:VCALENDAR