BEGIN:VCALENDAR
VERSION:2.0
PRODID:-//autres versants - ECPv6.14.2//NONSGML v1.0//EN
CALSCALE:GREGORIAN
METHOD:PUBLISH
X-ORIGINAL-URL:https://autresversants.com
X-WR-CALDESC:Évènements pour autres versants
REFRESH-INTERVAL;VALUE=DURATION:PT1H
X-Robots-Tag:noindex
X-PUBLISHED-TTL:PT1H
BEGIN:VTIMEZONE
TZID:Europe/Paris
BEGIN:DAYLIGHT
TZOFFSETFROM:+0100
TZOFFSETTO:+0200
TZNAME:CEST
DTSTART:20240331T010000
END:DAYLIGHT
BEGIN:STANDARD
TZOFFSETFROM:+0200
TZOFFSETTO:+0100
TZNAME:CET
DTSTART:20241027T010000
END:STANDARD
END:VTIMEZONE
BEGIN:VEVENT
DTSTART;TZID=Europe/Paris:20240802T180000
DTEND;TZID=Europe/Paris:20240802T233000
DTSTAMP:20260422T205140
CREATED:20230513T091629Z
LAST-MODIFIED:20240605T180609Z
UID:2424-1722621600-1722641400@autresversants.com
SUMMARY:Coucher de soleil et observation des étoiles
DESCRIPTION:Longues d’une dizaine de kilomètres\, les crêtes rouges de Vaumuse séparent les gorges du Vançon de la vallée des Duyes. Nous y grimperons en cette fin de journée d’été\, depuis le hameau de Mélan. Après un passage en forêt\, nous parviendrons sur la crête pour assister au coucher du soleil derrière la montagne de Lure. Nous partagerons alors un apéritif en regardant les étoiles s’allumer progressivement dans le ciel.  \nAu programme : petite marche dans les alpages\, à l’écoute des bruits de la nature et des odeurs ; montée sur les crêtes de Vaumuse via le Col de Mounis (vue sur toute la vallée des Duyes\, la montagne de Lure\, le Sisteronais et le massif des Monges) ; partage d’un apéritif au coucher du soleil ; petits jeux pour les enfants de découverte de la grande faune sauvage de montagne de la région (loup\, chamois\, mouflon…) ; retour à la lueur de nos lampes frontales\, suivi d’une séquence d’observation des étoiles / notions d’astronomie à l’arrivée à Mélan. \n\n\n\n\n\n\n\n\n\nEncadrement : Randonnée en groupe (max 15 personnes)\, encadrée par un accompagnateur en montagne basé à Sisteron. Il vous fournira les éléments techniques et vous fera découvrir l’environnement local. L’itinéraire pourra être modifié en fonction des conditions météo ou de la condition physique des participant.e.s. \nMatériel indispensable :  1 sac à dos confortable (20-30L) pour vos affaires // idéalement\, des chaussures de montagne avec des crampons ou à défaut\, une paire de baskets // 1 tenue adaptée pour la marche (vêtements respirants et légers) // 1 gourde d’eau (1L minimum/personne pour la sortie) // 1 casquette ou chapeau\, lunettes de soleil et crème solaire // 1 coupe-vent imperméable technique (type gore-tex) ou un k-way // un pull léger s’il fait frais le soir // votre lampe frontale ou votre téléphone chargé avec torche // votre traitement médical (si vous en avez). \nMatériel optionnel : votre téléphone ou appareil photo\, jumelles d’observation\, bâtons de randonnée (si vous avez l’habitude de marcher avec !). \n\n\n\n			\n			\n				\n				\n				\n				\n				\n				\n				\n				\n				\n				\n\n			\n				\n				\n				\n				\n				Tarifs :  25€ / adulte et 12€ / enfant (sous la responsabilité d’un adulte). Inscriptions possibles jusqu’à la veille au soir (20h). Départ garanti dès 6 inscrits. \nLe prix inclut : L’encadrement par un accompagnateur en montagne\, une collation / apéritif à partager. Il n’inclut pas: Votre transport A-R jusqu’au point de départ de la randonnée\, les autres snacks/encas et l’eau. Un covoiturage A-R sera organisé depuis l’Office de Tourisme de Sisteron. \nNiveau de difficulté : Niveau 2/5. 2h30 de marche effective et environ 200m de dénivelé positif au cours de la soirée. Randonnée tous publics s’effectuant à un rythme tranquille en montée\, uniquement sur des sentiers ou des pistes forestières bien marquées\, sans pente raide. Cette balade est tout à fait adaptée aux enfants\, à condition qu’ils sachent marcher en autonomie. Ils peuvent être inquiets à l’idée de marcher la nuit\, mais nous prendrons le temps pour que chacun.e se sente à l’aise. \nRV à 18h à l’Office de Tourisme de Sisteron ou à 19h au village de Mélan (Point GPS). \n			\n				Conditions générales de vente
URL:https://autresversants.com/event/coucher-de-soleil-et-observation-des-etoiles/
LOCATION:Le Castellard-Mélan\, Le Castellard-Melan\, 04380\, France
CATEGORIES:Balade ½ Journée,Coucher de soleil,Monges,Nocturne
ATTACH;FMTTYPE=image/jpeg:https://autresversants.com/wp-content/uploads/2023/05/Lavandes-et-coucher-de-soleil-depuis-Gache.jpeg
ORGANIZER;CN="Autres Versants":MAILTO:simon@autresversants.com
END:VEVENT
END:VCALENDAR