BEGIN:VCALENDAR
VERSION:2.0
PRODID:-//autres versants - ECPv6.14.2//NONSGML v1.0//EN
CALSCALE:GREGORIAN
METHOD:PUBLISH
X-ORIGINAL-URL:https://autresversants.com
X-WR-CALDESC:Évènements pour autres versants
REFRESH-INTERVAL;VALUE=DURATION:PT1H
X-Robots-Tag:noindex
X-PUBLISHED-TTL:PT1H
BEGIN:VTIMEZONE
TZID:Europe/Paris
BEGIN:DAYLIGHT
TZOFFSETFROM:+0100
TZOFFSETTO:+0200
TZNAME:CEST
DTSTART:20230326T010000
END:DAYLIGHT
BEGIN:STANDARD
TZOFFSETFROM:+0200
TZOFFSETTO:+0100
TZNAME:CET
DTSTART:20231029T010000
END:STANDARD
END:VTIMEZONE
BEGIN:VEVENT
DTSTART;TZID=Europe/Paris:20230519T100000
DTEND;TZID=Europe/Paris:20230522T163000
DTSTAMP:20260425T144826
CREATED:20240317T210614Z
LAST-MODIFIED:20240505T051635Z
UID:3906-1684490400-1684773000@autresversants.com
SUMMARY:Séjour : Les + belles randos du Sisteronais (4 jours)
DESCRIPTION:Une découverte complète de Sisteron et les merveilles qui l’entourent. Accompagné d’un guide\, vous admirerez le territoire et en comprendrez ses enjeux et ses secrets. Plus que de simples randonnées\, c’est une expérience immersive que vous allez vivre ! \n\n			\n				\n				\n				\n				\n				Les points forts du séjour\nUn séjour tout confort\, avec 4 randonnées encadrées par un professionnel.\nUn condensé entre Alpes et Provence\, avec un panorama de tous les massifs environnant Sisteron.\nDes produits locaux à découvrir dans tous nos repas et pique-niques !\nDes hébergements (dont 1 en pleine montagne) qui vous couperont le souffle.\n\n				\n			\n				\n				\n				\n				\n				\nProgramme détaillé\n\n\n\nJOUR 1 : SISTERON ET LE TROU DE L’ARGENT\n\n\n\nDepuis le vieux village d’Entrepierres\, vous grimpez en forêt vers la célèbre grotte du Trou de l’Argent. Il faudra se faufiler dans cette cavité naturelle creusée par l’eau dans le calcaire pour admirer Sisteron d’en haut\, depuis la falaise de la Baume. Le soir venu\, visite de la citadelle au soleil couchant et déambulation nocturne dans les ruelles de Sisteron. 540 m de dénivelée positive – 670 m de dénivelée négative – 4\,5 km – 3h15 de marche effective \n\n\nJOUR 2 : LA ROUTE DU TEMPS ET LE GEOPARC UNESCO DE HAUTE-PROVENCE\n\n\nVous empruntez la « route du Temps » pour partir découvrir le parc géologique de Haute-Provence\, classé à l’UNESCO. Direction : le plateau Saint-Geniez\, d’où vous irez au pied du rocher de Dromon (qui a inspiré la légende de « Théopolis ») puis à la Pierre Écrite via la crête de Gâche en fin de journée\, balcon exceptionnel sur toute la vallée de la Durance. 480 m de dénivelée positive – 580 m de dénivelée négative – 14\,5 km – 5h30 de marche effective \nJOUR 3 : AU CŒUR DES MONGES\, NUIT INSOLITE EN MONTAGNE\nVous pénétrez au cœur du massif des Monges\, pour grimper sur ses crêtes\, pâturées l’été par d’immenses troupeaux de moutons. Vous croiserez peut-être son ancêtre sauvage\, le mouflon méditerranéen\, présent sur le massif. Randonnée en ligne de crête puis en forêt jusqu’au lac des Monges\, où vous arriverez en fin d’après-midi. Nuit dans un gîte isolé\, en pleine forêt\, tout près du lac. Après dîner\, vous ressortirez pour admirer les étoiles\, loin de toute pollution lumineuse. 630 m de dénivelée positive – 510 m de dénivelée négative – 11 km – 4h30 de marche effective \nJOUR 4 : SENTIER-BALCON SUR LES GORGES DE LA MÉOUGE\nPour ce dernier jour\, vous basculerez du côté des Baronnies Provençales pour visiter l’un des sites les plus emblématiques du Sisteronais-Buëch : bienvenue au cœur des célèbres gorges de la Méouge ! Vous remonterez la rivière sur près de 3 kilomètres\, avant de prendre de la hauteur pour admirer les gorges depuis les falaises qui l’environnent. Vertige assuré\, garanti sans difficulté ! 340 m de dénivelée positive – 340 m de dénivelée négative – 7\,5 km – 3h de marche effective \n\n\n\n\n\nCe programme peut être modifié à tout moment par le professionnel encadrant notamment en fonction des conditions climatiques\, des aptitudes physiques et techniques des participants\, de la disponibilité des hébergements ou tout autre événement inattendu. En dernier ressort\, il reste seul juge du programme. \n\n			\n			\n				\n				\n				\n				\n				\n				+ d’infos / s’inscrire au séjour\n			\n				\n				\n				\n				\n				Tarif : Départ assuré avec un minimum de 4 personnes – 540€/personne. Tarif dégressif en fonction du nombre de participants. \nLe prix comprend : L’encadrement par un Accompagnateur en Montagne / les 3 nuits d’hébergement / l’ensemble des repas compris entre le pique-nique du J1 et le pique-nique du J4 / less transferts durant le séjour / le portage des bagages / La taxe de séjour. \nIl n’inclut pas : Le déplacement aller et retour de votre domicile au point d’accueil/dispersion du séjour / Les repas non compris (ex : petit-déjeuner du J1 ; repas du soir du J4) / Les boissons et les achats personnels – Les assurances (assistance rapatriement ou annulation) / Tout ce qui n’est pas mentionné dans la rubrique « le prix comprend ». \nNiveau de difficulté : 2/4. Randonnées de niveau modéré de 4h à 6h / jour en cours de séjour. La randonnée du jour 1\, plus courte mais plus technique\, implique le passage dans une grotte et d’être à l’aise avec les passages aériens (sécurisés par des câbles dans la roche). \n\nAptitudes requises des participants pour participer à ce séjour : Avoir une pratique régulière de la marche sur plusieurs heures ; avoir déjà randonné à la journée en montagne. Être en capacité d’enchainer plusieurs de marche avec un dénivelé modéré. \nHÉBERGEMENT / RESTAURATION \n\n\n \n\n\n\nType d’hébergement : 1 nuit en hôtel à Sisteron (chambres de 2)\, 1 nuit en gîte d’étape à St-Geniez\, une nuit en gîte en montagne près du lac des Monges en collective de 3 ou 4 personnes avec SDB. Emportez avec vous taie d’oreiller\, sac à viande (ou duvet léger) et serviette de toilette pour la nuit en gîte en montagne. \n\n\nRepas : pique-niques préparés par votre accompagnateur à base de produits frais et locaux ; ½ pension le soir à l’hôtel ou en table d’hôtes.  \n\n\n\nTRANSFERTS INTERNES – Transfert entre l’Office de Tourisme de Sisteron (point d’accueil / dispersion du séjour) et les différents lieux des randonnées pris en charge via un prestataire dédié. \n\n\nPORTAGE DES BAGAGES – Les bagages seront stockés dans nos véhicules ou laissés au gîte\, et transportés d’un gîte à l’autre via un transporteur.
URL:https://autresversants.com/event/les-belles-randos-du-sisteronais/
LOCATION:Sisteron\, Sisteron\, Provence-Alpes-Côte d'Azur\, France
CATEGORIES:Sisteron
ATTACH;FMTTYPE=image/jpeg:https://autresversants.com/wp-content/uploads/2024/01/IMG_5642.jpeg
ORGANIZER;CN="Autres Versants":MAILTO:simon@autresversants.com
END:VEVENT
END:VCALENDAR